BEGIN_USGS_DOQ_HEADER *
QUADRANGLE_NAME "HAMES VALLEY" *
QUADRANT NE *
NORTH_LATITUDE 36 00 00.000 *
WEST_LONGITUDE -120 56 15.000 *
SOUTH_LATITUDE 35 56 15.000 *
EAST_LONGITUDE -120 52 30.000 *
PRODUCTION_DATE 1998 10 26 *
RASTER_ORDER LEFT_RIGHT/TOP_BOTTOM *
BAND_ORGANIZATION "SINGLE FILE" *
BAND_CONTENT BLACK&WHITE *
BITS_PER_PIXEL 8 *
SAMPLES_AND_LINES 6510 7680 *
HORIZONTAL_DATUM NAD83 *
HORIZONTAL_COORDINATE_SYSTEM UTM *
COORDINATE_ZONE 10 *
HORIZONTAL_UNITS METERS *
HORIZONTAL_RESOLUTION 1.000 *
SECONDARY_HORIZONTAL_DATUM NAD27 *
XY_ORIGIN 685500.000 3986340.000 *
SECONDARY_XY_ORIGIN 685596.104 3986145.322 *
NATION US *
STATE CA *
NW_QUAD_CORNER_XY 685900.738 3985915.662 *
NE_QUAD_CORNER_XY 691534.887 3986036.734 *
SE_QUAD_CORNER_XY 691685.996 3979103.115 *
SW_QUAD_CORNER_XY 686047.397 3978982.130 *
SECONDARY_NW_QUAD_XY 685905.153 3985715.234 *
SECONDARY_NE_QUAD_XY 691539.436 3985836.309 *
SECONDARY_SE_QUAD_XY 691690.541 3978902.866 *
SECONDARY_SW_QUAD_XY 686051.808 3978781.878 *
RMSE_XY 2.477 *
IMAGE_SOURCE "BLACK AND WHITE FILM" *
SOURCE_IMAGE_ID "NAPP 6917 121" *
SOURCE_IMAGE_DATE 1994 05 10 *
SOURCE_DEM_DATE 1947 01 01 *
AGENCY "WESTERN MAPPING CENTER (WMC)" *
PRODUCER "ANALYTICAL SURVEYS INC." *
PRODUCTION_SYSTEM "ORBIT OR_RECTIFY V.5.2" *
STANDARD_VERSION 1996 12 *
METADATA_DATE 1998 10 30 *
DATA_FILE_SIZE 50003310 *
BYTE_COUNT 6510 * * * * * * * * * * * * * * * * * * * * * * * * * * * * * * * * * * * * * * *
END_USGS_HEADER *
