BEGIN_USGS_DOQ_HEADER *
QUADRANGLE_NAME "HAMES VALLEY" *
QUADRANT NW *
NORTH_LATITUDE 36 00 00.000 *
WEST_LONGITUDE -121 00 00.000 *
SOUTH_LATITUDE 35 56 15.000 *
EAST_LONGITUDE -120 56 15.000 *
PRODUCTION_DATE 1998 10 26 *
RASTER_ORDER LEFT_RIGHT/TOP_BOTTOM *
BAND_ORGANIZATION "SINGLE FILE" *
BAND_CONTENT BLACK&WHITE *
BITS_PER_PIXEL 8 *
SAMPLES_AND_LINES 6510 7680 *
HORIZONTAL_DATUM NAD83 *
HORIZONTAL_COORDINATE_SYSTEM UTM *
COORDINATE_ZONE 10 *
HORIZONTAL_UNITS METERS *
HORIZONTAL_RESOLUTION 1.000 *
SECONDARY_HORIZONTAL_DATUM NAD27 *
XY_ORIGIN 679860.000 3986220.000 *
SECONDARY_XY_ORIGIN 679956.343 3986025.177 *
NATION US *
STATE CA *
NW_QUAD_CORNER_XY 680266.658 3985798.208 *
NE_QUAD_CORNER_XY 685900.738 3985915.662 *
SE_QUAD_CORNER_XY 686047.397 3978982.130 *
SW_QUAD_CORNER_XY 680408.867 3978864.760 *
SECONDARY_NW_QUAD_XY 680270.939 3985597.778 *
SECONDARY_NE_QUAD_XY 685905.153 3985715.234 *
SECONDARY_SE_QUAD_XY 686051.808 3978781.878 *
SECONDARY_SW_QUAD_XY 680413.145 3978664.505 *
RMSE_XY 4.350 *
IMAGE_SOURCE "BLACK AND WHITE FILM" *
SOURCE_IMAGE_ID "NAPP 6917 152" *
SOURCE_IMAGE_DATE 1994 05 10 *
SOURCE_IMAGE_ID "NAPP 6917 150" *
SOURCE_IMAGE_DATE 1994 05 10 *
SOURCE_IMAGE_ID "NAPP 6917 187" *
SOURCE_IMAGE_DATE 1994 05 10 *
SOURCE_DEM_DATE 1947 01 01 *
AGENCY "WESTERN MAPPING CENTER (WMC)" *
PRODUCER "ANALYTICAL SURVEYS INC." *
PRODUCTION_SYSTEM "ORBIT OR_RECTIFY V.5.2" *
STANDARD_VERSION 1996 12 *
METADATA_DATE 1998 10 30 *
DATA_FILE_SIZE 50003310 *
BYTE_COUNT 6510 * * * * * * * * * * * * * * * * * * * * * * * * * * * * * * * * * * *
END_USGS_HEADER *
