BEGIN_USGS_DOQ_HEADER *
QUADRANGLE_NAME "CAMBRIA" *
QUADRANT NE *
NORTH_LATITUDE 35 37 30.000 *
WEST_LONGITUDE -121 03 45.000 *
SOUTH_LATITUDE 35 33 45.000 *
EAST_LONGITUDE -121 00 00.000 *
PRODUCTION_DATE 1998 10 28 *
RASTER_ORDER LEFT_RIGHT/TOP_BOTTOM *
BAND_ORGANIZATION "SINGLE FILE" *
BAND_CONTENT BLACK&WHITE *
BITS_PER_PIXEL 8 *
SAMPLES_AND_LINES 6510 7680 *
HORIZONTAL_DATUM NAD83 *
HORIZONTAL_COORDINATE_SYSTEM UTM *
COORDINATE_ZONE 10 *
HORIZONTAL_UNITS METERS *
HORIZONTAL_RESOLUTION 1.000 *
SECONDARY_HORIZONTAL_DATUM NAD27 *
XY_ORIGIN 675060.000 3944520.000 *
SECONDARY_XY_ORIGIN 675156.825 3944325.731 *
NATION US *
STATE CA *
NW_QUAD_CORNER_XY 675456.075 3944085.131 *
NE_QUAD_CORNER_XY 681116.682 3944198.471 *
SE_QUAD_CORNER_XY 681257.597 3937265.403 *
SW_QUAD_CORNER_XY 675592.582 3937152.148 *
SECONDARY_NW_QUAD_XY 675460.201 3943885.765 *
SECONDARY_NE_QUAD_XY 681120.941 3943999.107 *
SECONDARY_SE_QUAD_XY 681261.853 3937066.220 *
SECONDARY_SW_QUAD_XY 675596.704 3936952.962 *
RMSE_XY 1.926 *
IMAGE_SOURCE "BLACK AND WHITE FILM" *
SOURCE_IMAGE_ID "NAPP 6920 222" *
SOURCE_IMAGE_DATE 1994 05 13 *
SOURCE_IMAGE_ID "NAPP 6917 140" *
SOURCE_IMAGE_DATE 1994 05 10 *
SOURCE_IMAGE_ID "NAPP 6920 220" *
SOURCE_IMAGE_DATE 1994 05 13 *
SOURCE_DEM_DATE 1979 01 01 *
AGENCY "WESTERN MAPPING CENTER (WMC)" *
PRODUCER "ANALYTICAL SURVEYS INC." *
PRODUCTION_SYSTEM "ORBIT OR_RECTIFY V.5.2" *
STANDARD_VERSION 1996 12 *
METADATA_DATE 1998 12 11 *
DATA_FILE_SIZE 50003310 *
BYTE_COUNT 6510 * * * * * * * * * * * * * * * * * * * * * * * * * * * * * * * * * * *
END_USGS_HEADER *
