BEGIN_USGS_DOQ_HEADER *
QUADRANGLE_NAME "SAN SIMEON" *
QUADRANT NE *
NORTH_LATITUDE 35 45 00.000 *
WEST_LONGITUDE -121 11 15.000 *
SOUTH_LATITUDE 35 41 15.000 *
EAST_LONGITUDE -121 07 30.000 *
PRODUCTION_DATE 1998 10 30 *
RASTER_ORDER LEFT_RIGHT/TOP_BOTTOM *
BAND_ORGANIZATION "SINGLE FILE" *
BAND_CONTENT BLACK&WHITE *
BITS_PER_PIXEL 8 *
SAMPLES_AND_LINES 6510 7680 *
HORIZONTAL_DATUM NAD83 *
HORIZONTAL_COORDINATE_SYSTEM UTM *
COORDINATE_ZONE 10 *
HORIZONTAL_UNITS METERS *
HORIZONTAL_RESOLUTION 1.000 *
SECONDARY_HORIZONTAL_DATUM NAD27 *
XY_ORIGIN 663480.000 3958170.000 *
SECONDARY_XY_ORIGIN 663577.145 3957975.533 *
NATION US *
STATE CA *
NW_QUAD_CORNER_XY 663879.093 3957735.097 *
NE_QUAD_CORNER_XY 669530.731 3957841.389 *
SE_QUAD_CORNER_XY 669663.234 3950908.359 *
SW_QUAD_CORNER_XY 664007.175 3950802.144 *
SECONDARY_NW_QUAD_XY 663882.959 3957535.366 *
SECONDARY_NE_QUAD_XY 669534.731 3957641.661 *
SECONDARY_SE_QUAD_XY 669667.231 3950708.810 *
SECONDARY_SW_QUAD_XY 664011.038 3950602.593 *
RMSE_XY 2.047 *
IMAGE_SOURCE "BLACK AND WHITE FILM" *
SOURCE_IMAGE_ID "NAPP 6920 206" *
SOURCE_IMAGE_DATE 1994 05 13 *
SOURCE_DEM_DATE 1956 01 01 *
AGENCY "WESTERN MAPPING CENTER (WMC)" *
PRODUCER "ANALYTICAL SURVEYS INC." *
PRODUCTION_SYSTEM "ORBIT OR_RECTIFY V.5.2" *
STANDARD_VERSION 1996 12 *
METADATA_DATE 1998 11 02 *
DATA_FILE_SIZE 50003310 *
BYTE_COUNT 6510 * * * * * * * * * * * * * * * * * * * * * * * * * * * * * * * * * * * * * * *
END_USGS_HEADER *
