BEGIN_USGS_DOQ_HEADER *
QUADRANGLE_NAME "SAN SIMEON" *
QUADRANT SW *
NORTH_LATITUDE 35 41 15.000 *
WEST_LONGITUDE -121 15 00.000 *
SOUTH_LATITUDE 35 37 30.000 *
EAST_LONGITUDE -121 11 15.000 *
PRODUCTION_DATE 1998 10 30 *
RASTER_ORDER LEFT_RIGHT/TOP_BOTTOM *
BAND_ORGANIZATION "SINGLE FILE" *
BAND_CONTENT BLACK&WHITE *
BITS_PER_PIXEL 8 *
SAMPLES_AND_LINES 6510 7680 *
HORIZONTAL_DATUM NAD83 *
HORIZONTAL_COORDINATE_SYSTEM UTM *
COORDINATE_ZONE 10 *
HORIZONTAL_UNITS METERS *
HORIZONTAL_RESOLUTION 1.000 *
SECONDARY_HORIZONTAL_DATUM NAD27 *
XY_ORIGIN 657930.000 3951120.000 *
SECONDARY_XY_ORIGIN 658027.329 3950925.557 *
NATION US *
STATE CA *
NW_QUAD_CORNER_XY 658351.179 3950699.534 *
NE_QUAD_CORNER_XY 664007.175 3950802.144 *
SE_QUAD_CORNER_XY 664135.062 3943869.257 *
SW_QUAD_CORNER_XY 658474.651 3943766.722 *
SECONDARY_NW_QUAD_XY 658354.908 3950499.980 *
SECONDARY_NE_QUAD_XY 664011.038 3950602.593 *
SECONDARY_SE_QUAD_XY 664138.922 3943669.886 *
SECONDARY_SW_QUAD_XY 658478.378 3943567.349 *
RMSE_XY 1.161 *
IMAGE_SOURCE "BLACK AND WHITE FILM" *
SOURCE_IMAGE_ID "NAPP 6920 199" *
SOURCE_IMAGE_DATE 1994 05 13 *
SOURCE_DEM_DATE 1956 01 01 *
AGENCY "WESTERN MAPPING CENTER (WMC)" *
PRODUCER "ANALYTICAL SURVEYS INC." *
PRODUCTION_SYSTEM "ORBIT OR_RECTIFY V.5.2" *
STANDARD_VERSION 1996 12 *
METADATA_DATE 1998 11 02 *
DATA_FILE_SIZE 50003310 *
BYTE_COUNT 6510 * * * * * * * * * * * * * * * * * * * * * * * * * * * * * * * * * * * * * * *
END_USGS_HEADER *
