BEGIN_USGS_DOQ_HEADER *
QUADRANGLE_NAME "PIEDRAS BLANCAS" *
QUADRANT NE *
NORTH_LATITUDE 35 45 00.000 *
WEST_LONGITUDE -121 18 45.000 *
SOUTH_LATITUDE 35 41 15.000 *
EAST_LONGITUDE -121 15 00.000 *
PRODUCTION_DATE 1998 10 27 *
RASTER_ORDER LEFT_RIGHT/TOP_BOTTOM *
BAND_ORGANIZATION "SINGLE FILE" *
BAND_CONTENT BLACK&WHITE *
BITS_PER_PIXEL 8 *
SAMPLES_AND_LINES 6510 7680 *
HORIZONTAL_DATUM NAD83 *
HORIZONTAL_COORDINATE_SYSTEM UTM *
COORDINATE_ZONE 10 *
HORIZONTAL_UNITS METERS *
HORIZONTAL_RESOLUTION 1.000 *
SECONDARY_HORIZONTAL_DATUM NAD27 *
XY_ORIGIN 652170.000 3957960.000 *
SECONDARY_XY_ORIGIN 652267.462 3957765.510 *
NATION US *
STATE CA *
NW_QUAD_CORNER_XY 652576.002 3957533.331 *
NE_QUAD_CORNER_XY 658227.517 3957632.410 *
SE_QUAD_CORNER_XY 658351.179 3950699.534 *
SW_QUAD_CORNER_XY 652695.243 3950600.527 *
SECONDARY_NW_QUAD_XY 652579.601 3957333.596 *
SECONDARY_NE_QUAD_XY 658231.250 3957432.678 *
SECONDARY_SE_QUAD_XY 658354.908 3950499.980 *
SECONDARY_SW_QUAD_XY 652698.839 3950400.971 *
RMSE_XY 3.440 *
IMAGE_SOURCE "BLACK AND WHITE FILM" *
SOURCE_IMAGE_ID "NAPP 6920 163" *
SOURCE_IMAGE_DATE 1994 05 13 *
SOURCE_DEM_DATE 1956 01 01 *
AGENCY "WESTERN MAPPING CENTER (WMC)" *
PRODUCER "ANALYTICAL SURVEYS INC." *
PRODUCTION_SYSTEM "ORBIT OR_RECTIFY V.5.2" *
STANDARD_VERSION 1996 12 *
METADATA_DATE 1998 10 27 *
DATA_FILE_SIZE 50003310 *
BYTE_COUNT 6510 * * * * * * * * * * * * * * * * * * * * * * * * * * * * * * * * * * * * * * *
END_USGS_HEADER *
