BEGIN_USGS_DOQ_HEADER *
QUADRANGLE_NAME "BURRO MOUNTAIN" 3.45 or 7.5-min. name*
QUADRANT SW quadrant indicator if cell size = 3.75-minutes*
WEST_LONGITUDE -121 22 30.000 signed deg min sec SDDD MM SS.SSS*
EAST_LONGITUDE -121 18 45.000 signed deg min sec SDDD MM SS.SSS*
NORTH_LATITUDE 35 48 45.000 signed deg min sec SDDD MM SS.SSS*
SOUTH_LATITUDE 35 45 0.000 signed deg min sec SDDD MM SS.SSS*
PRODUCTION_DATE 1996 1 16 yyyy mm dd*
RASTER_ORDER LEFT_RIGHT/TOP_BOTTOM video display order*
BAND_ORGANIZATION "SINGLE FILE" single file or BSQ, or BIL or BIP*
BAND_CONTENT BLACK&WHITE black&white or red green blue*
BITS_PER_PIXEL 8 radiometric resolution*
SAMPLES_AND_LINES 6464 7636 number of columns and rows*
HORIZONTAL_DATUM NAD83 primary horizontal datum*
HORIZONTAL_COORDINATE_SYSTEM UTM *
COORDINATE_ZONE 10 coordinate system zone number*
HORIZONTAL_UNITS METERS coordinate system units*
HORIZONTAL_RESOLUTION 1.00 pixel horiz. ground sample distance*
SECONDARY_HORIZONTAL_DATUM NAD27 secondary horizontal datum*
XY_ORIGIN 646414.000 3964767.000 coord. of upper left pixel pri. datum*
SECONDARY_XY_ORIGIN 646511.543 3964572.422 coord upper left pixel sec datum*
NATION US nation code*
STATE CA state fip code*
NW_QUAD_CORNER_XY 646809.550 3964370.660 XY coords. of pri. NW quad corner*
NE_QUAD_CORNER_XY 652456.580 3964466.200 XY coords. of pri. NE quad corner*
SE_QUAD_CORNER_XY 652576.000 3957533.330 XY coords. of pri. SE quad corner*
SW_QUAD_CORNER_XY 646924.540 3957437.860 XY coords. of pri. SW quad corner*
SECONDARY_NW_QUAD_XY 646813.020 3964170.740 XY coords. - sec. NW quad cor.*
SECONDARY_NE_QUAD_XY 652460.180 3964266.290 XY coords. - sec. NE quad cor.*
SECONDARY_SE_QUAD_XY 652579.600 3957333.600 XY coords. - sec. SE quad cor.*
SECONDARY_SW_QUAD_XY 646928.010 3957238.120 XY coords. - sec. SW quad cor.*
RMSE_XY 4.00 doq horiz. accuracy*
IMAGE_SOURCE "BLACK AND WHITE FILM" b&w, cir, natural color, other*
SOURCE_IMAGE_ID "NAPP 6920 156" source image id*
SOURCE_IMAGE_DATE 1994 5 13 source image date as yyyy mm dd*
SOURCE_DEM_DATE 1996 1 16 source dem date yyyy mm dd*
AGENCY "WESTERN MAPPING CENTER (WMC)" oversight agency*
PRODUCER "USFS" producer/contractor*
PRODUCTION_SYSTEM "DV2.6.1 6/95OV2.4 5/95" production system*
STANDARD_VERSION 1996 12 version of DOQ standard*
METADATA_DATE 1997 6 13 date created or changed, yyyy mm dd*
DATA_FILE_SIZE 49365568 data set size in bytes*
BYTE_COUNT 6464 header byte count* * * * * * * * * * * * * * * * * * * * * * * * * * * * * * * * * * * * * *
END_USGS_HEADER *
