BEGIN_USGS_DOQ_HEADER *
QUADRANGLE_NAME "VILLA CREEK" 3.45 or 7.5-min. name*
QUADRANT NE quadrant indicator if cell size = 3.75-minutes*
WEST_LONGITUDE -121 26 15.000 signed deg min sec SDDD MM SS.SSS*
EAST_LONGITUDE -121 22 30.000 signed deg min sec SDDD MM SS.SSS*
NORTH_LATITUDE 35 52 30.000 signed deg min sec SDDD MM SS.SSS*
SOUTH_LATITUDE 35 48 45.000 signed deg min sec SDDD MM SS.SSS*
PRODUCTION_DATE 1996 1 17 yyyy mm dd*
RASTER_ORDER LEFT_RIGHT/TOP_BOTTOM video display order*
BAND_ORGANIZATION "SINGLE FILE" single file or BSQ, or BIL or BIP*
BAND_CONTENT BLACK&WHITE black&white or red green blue*
BITS_PER_PIXEL 8 radiometric resolution*
SAMPLES_AND_LINES 6452 7634 number of columns and rows*
HORIZONTAL_DATUM NAD83 primary horizontal datum*
HORIZONTAL_COORDINATE_SYSTEM UTM *
COORDINATE_ZONE 10 coordinate system zone number*
HORIZONTAL_UNITS METERS coordinate system units*
HORIZONTAL_RESOLUTION 1.00 pixel horiz. ground sample distance*
SECONDARY_HORIZONTAL_DATUM NAD27 secondary horizontal datum*
XY_ORIGIN 640657.000 3971605.000 coord. of upper left pixel pri. datum*
SECONDARY_XY_ORIGIN 640754.628 3971410.394 coord upper left pixel sec datum*
NATION US nation code*
STATE CA state fip code*
NW_QUAD_CORNER_XY 641051.830 3971211.520 XY coords. of pri. NW quad corner*
NE_QUAD_CORNER_XY 646694.380 3971303.520 XY coords. of pri. NE quad corner*
SE_QUAD_CORNER_XY 646809.550 3964370.660 XY coords. of pri. SE quad corner*
SW_QUAD_CORNER_XY 641162.570 3964278.720 XY coords. of pri. SW quad corner*
SECONDARY_NW_QUAD_XY 641055.170 3971011.430 XY coords. - sec. NW quad cor.*
SECONDARY_NE_QUAD_XY 646697.850 3971103.430 XY coords. - sec. NE quad cor.*
SECONDARY_SE_QUAD_XY 646813.020 3964170.740 XY coords. - sec. SE quad cor.*
SECONDARY_SW_QUAD_XY 641165.910 3964078.800 XY coords. - sec. SW quad cor.*
RMSE_XY 3.60 doq horiz. accuracy*
IMAGE_SOURCE "BLACK AND WHITE FILM" b&w, cir, natural color, other*
SOURCE_IMAGE_ID "NAPP 6920 111" source image id*
SOURCE_IMAGE_DATE 1994 5 13 source image date as yyyy mm dd*
SOURCE_DEM_DATE 1996 1 17 source dem date yyyy mm dd*
AGENCY "WESTERN MAPPING CENTER (WMC)" oversight agency*
PRODUCER "USFS" producer/contractor*
PRODUCTION_SYSTEM "DV2.6.1 6/95OV2.4 5/95" production system*
STANDARD_VERSION 1996 12 version of DOQ standard*
METADATA_DATE 1997 6 13 date created or changed, yyyy mm dd*
DATA_FILE_SIZE 49261020 data set size in bytes*
BYTE_COUNT 6452 header byte count* * * * * * * * * * * * * * * * * * * * * * * * * * * * * * * * * * * * * *
END_USGS_HEADER *
