BEGIN_USGS_DOQ_HEADER *
QUADRANGLE_NAME "ALDER PEAK" 3.45 or 7.5-min. name*
QUADRANT NE quadrant indicator if cell size = 3.75-minutes*
WEST_LONGITUDE -121 18 45.000 signed deg min sec SDDD MM SS.SSS*
EAST_LONGITUDE -121 15 0.000 signed deg min sec SDDD MM SS.SSS*
NORTH_LATITUDE 36 0 0.000 signed deg min sec SDDD MM SS.SSS*
SOUTH_LATITUDE 35 56 15.000 signed deg min sec SDDD MM SS.SSS*
PRODUCTION_DATE 1996 1 16 yyyy mm dd*
RASTER_ORDER LEFT_RIGHT/TOP_BOTTOM video display order*
BAND_ORGANIZATION "SINGLE FILE" single file or BSQ, or BIL or BIP*
BAND_CONTENT BLACK&WHITE black&white or red green blue*
BITS_PER_PIXEL 8 radiometric resolution*
SAMPLES_AND_LINES 6452 7641 number of columns and rows*
HORIZONTAL_DATUM NAD83 primary horizontal datum*
HORIZONTAL_COORDINATE_SYSTEM UTM *
COORDINATE_ZONE 10 coordinate system zone number*
HORIZONTAL_UNITS METERS coordinate system units*
HORIZONTAL_RESOLUTION 1.00 pixel horiz. ground sample distance*
SECONDARY_HORIZONTAL_DATUM NAD27 secondary horizontal datum*
XY_ORIGIN 651703.000 3985666.000 coord. of upper left pixel pri. datum*
SECONDARY_XY_ORIGIN 651800.262 3985470.996 coord upper left pixel sec datum*
NATION US nation code*
STATE CA state fip code*
NW_QUAD_CORNER_XY 652097.220 3985265.210 XY coords. of pri. NW quad corner*
NE_QUAD_CORNER_XY 657730.990 3985364.570 XY coords. of pri. NE quad corner*
SE_QUAD_CORNER_XY 657855.400 3978431.430 XY coords. of pri. SE quad corner*
SW_QUAD_CORNER_XY 652217.190 3978332.140 XY coords. of pri. SW quad corner*
SECONDARY_NW_QUAD_XY 652100.830 3985064.760 XY coords. - sec. NW quad cor.*
SECONDARY_NE_QUAD_XY 657734.730 3985164.130 XY coords. - sec. NE quad cor.*
SECONDARY_SE_QUAD_XY 657859.140 3978231.170 XY coords. - sec. SE quad cor.*
SECONDARY_SW_QUAD_XY 652220.800 3978131.870 XY coords. - sec. SW quad cor.*
RMSE_XY 3.00 doq horiz. accuracy*
IMAGE_SOURCE "BLACK AND WHITE FILM" b&w, cir, natural color, other*
SOURCE_IMAGE_ID "NAPP 6920 171" source image id*
SOURCE_IMAGE_DATE 1994 5 13 source image date as yyyy mm dd*
SOURCE_DEM_DATE 1996 1 16 source dem date yyyy mm dd*
AGENCY "WESTERN MAPPING CENTER (WMC)" oversight agency*
PRODUCER "USFS" producer/contractor*
PRODUCTION_SYSTEM "DV2.6.1 6/95OV2.4 5/95" production system*
STANDARD_VERSION 1996 12 version of DOQ standard*
METADATA_DATE 1997 6 13 date created or changed, yyyy mm dd*
DATA_FILE_SIZE 49306184 data set size in bytes*
BYTE_COUNT 6452 header byte count* * * * * * * * * * * * * * * * * * * * * * * * * * * * * * * * * * * * * *
END_USGS_HEADER *
