BEGIN_USGS_DOQ_HEADER *
QUADRANGLE_NAME "LOST CABIN SPRING" *
QUADRANT NW *
WEST_LONGITUDE -115 45 0.000 *
EAST_LONGITUDE -115 41 15.000 *
NORTH_LATITUDE 36 7 30.000 *
SOUTH_LATITUDE 36 3 45.000 *
PRODUCTION_DATE 2003 2 18 *
RASTER_ORDER LEFT_RIGHT/TOP_BOTTOM *
BAND_ORGANIZATION "SINGLE FILE" *
BAND_CONTENT BLACK&WHITE *
BITS_PER_PIXEL 8 *
SAMPLES_AND_LINES 6395 7610 *
HORIZONTAL_DATUM NAD83 *
HORIZONTAL_COORDINATE_SYSTEM UTM *
COORDINATE_ZONE 11 *
HORIZONTAL_UNITS METERS *
HORIZONTAL_RESOLUTION 1.0 *
SECONDARY_HORIZONTAL_DATUM NAD27 *
XY_ORIGIN 612107.610 3998913.300 *
SECONDARY_XY_ORIGIN 612186.803 3998717.349 *
NATION US *
STATE NV *
NW_QUAD_CORNER_XY 612484.216 3998536.376 *
NE_QUAD_CORNER_XY 618108.722 3998610.539 *
SE_QUAD_CORNER_XY 618202.297 3991677.705 *
SW_QUAD_CORNER_XY 612573.333 3991603.594 *
SECONDARY_NW_QUAD_XY 612486.897 3998335.570 *
SECONDARY_NE_QUAD_XY 618111.538 3998409.735 *
SECONDARY_SE_QUAD_XY 618205.111 3991477.076 *
SECONDARY_SW_QUAD_XY 612576.012 3991402.963 *
RMSE_XY 1.00 *
IMAGE_SOURCE "BLACK AND WHITE FILM" *
SOURCE_IMAGE_ID "NAPP 11570 176" *
SOURCE_IMAGE_DATE 1999 9 6 *
SOURCE_IMAGE_ID "NAPP 11570 177" *
SOURCE_IMAGE_DATE 1999 9 6 *
SOURCE_IMAGE_ID "NAPP 11597 88" *
SOURCE_IMAGE_DATE 1999 10 10 *
SOURCE_IMAGE_ID "NAPP 11570 219" *
SOURCE_IMAGE_DATE 1999 9 6 *
SOURCE_IMAGE_ID "NAPP 11570 218" *
SOURCE_IMAGE_DATE 1999 9 6 *
SOURCE_IMAGE_ID "NAPP 11570 129" *
SOURCE_IMAGE_DATE 1999 9 6 *
SOURCE_IMAGE_ID "NAPP 11570 128" *
SOURCE_IMAGE_DATE 1999 9 6 *
SOURCE_IMAGE_ID "NAPP 11597 105" *
SOURCE_IMAGE_DATE 1999 10 10 *
SOURCE_DEM_DATE 2003 1 1 *
AGENCY "WESTERN MAPPING CENTER (WMC)" *
PRODUCER "USDA FS GEOSPATIAL SERVICE AND TECHNOLOGY CENTER" *
PRODUCTION_SYSTEM "ORBIT OR_RECTIFY V.5.2" *
STANDARD_VERSION 1996 12 *
METADATA_DATE 2003 2 18 *
DATA_FILE_SIZE 48672345 *
BYTE_COUNT 6395 * * * * * * * * * * * * * * * * * * * * * * *
END_USGS_HEADER *
