BEGIN_USGS_DOQ_HEADER *
QUADRANGLE_NAME "HIDDEN HILLS RANCH" *
QUADRANT NE *
WEST_LONGITUDE -115 48 45.0 *
EAST_LONGITUDE -115 45 0.0 *
NORTH_LATITUDE 36 7 30.0 *
SOUTH_LATITUDE 36 3 45.0 *
PRODUCTION_DATE 1998 11 6 *
RASTER_ORDER LEFT_RIGHT/TOP_BOTTOM *
BAND_ORGANIZATION "SINGLE FILE" *
BAND_CONTENT BLACK&WHITE *
BITS_PER_PIXEL 8 *
SAMPLES_AND_LINES 6401 7621 *
HORIZONTAL_DATUM NAD83 *
HORIZONTAL_COORDINATE_SYSTEM UTM *
COORDINATE_ZONE 11 *
HORIZONTAL_UNITS METERS *
HORIZONTAL_RESOLUTION 1.0 *
SECONDARY_HORIZONTAL_DATUM NAD27 *
XY_ORIGIN 606480.000 3998840.000 *
SECONDARY_XY_ORIGIN 606559.212 3998644.058 *
NATION US *
STATE NV *
NW_QUAD_CORNER_XY 606859.751 3998465.832 *
NE_QUAD_CORNER_XY 612484.216 3998536.376 *
SE_QUAD_CORNER_XY 612573.333 3991603.594 *
SW_QUAD_CORNER_XY 606944.410 3991533.100 *
SECONDARY_NW_QUAD_XY 606862.296 3998265.024 *
SECONDARY_NE_QUAD_XY 612486.895 3998335.569 *
SECONDARY_SE_QUAD_XY 612576.010 3991402.962 *
SECONDARY_SW_QUAD_XY 606946.953 3991332.466 *
RMSE_XY 0.733 *
IMAGE_SOURCE "Black and White film" *
SOURCE_IMAGE_ID "NAPP 7339-35" *
SOURCE_IMAGE_DATE 1994 09 11 *
SOURCE_DEM_DATE 1984 00 00 *
AGENCY "WESTERN MAPPING CENTER (WMC)" *
PRODUCER "Hammon, Jensen, Wallen & Associates" *
PRODUCTION_SYSTEM "ORTHOVIEW" *
STANDARD_VERSION 1996 12 *
METADATA_DATE 1998 11 6 *
DATA_FILE_SIZE 48788422 *
BYTE_COUNT 6401 * * * * * * * * * * * * * * * * * * * * * * * * * * * * * * * * * * * * *
END_USGS_HEADER *
