BEGIN_USGS_DOQ_HEADER *
QUADRANGLE_NAME "HIDDEN HILLS RANCH" *
QUADRANT SE *
WEST_LONGITUDE -115 48 45.0 *
EAST_LONGITUDE -115 45 0.0 *
NORTH_LATITUDE 36 3 45.0 *
SOUTH_LATITUDE 36 0 0.0 *
PRODUCTION_DATE 1998 11 6 *
RASTER_ORDER LEFT_RIGHT/TOP_BOTTOM *
BAND_ORGANIZATION "SINGLE FILE" *
BAND_CONTENT BLACK&WHITE *
BITS_PER_PIXEL 8 *
SAMPLES_AND_LINES 6411 7621 *
HORIZONTAL_DATUM NAD83 *
HORIZONTAL_COORDINATE_SYSTEM UTM *
COORDINATE_ZONE 11 *
HORIZONTAL_UNITS METERS *
HORIZONTAL_RESOLUTION 1.0 *
SECONDARY_HORIZONTAL_DATUM NAD27 *
XY_ORIGIN 606560.000 3991910.000 *
SECONDARY_XY_ORIGIN 606639.119 3991714.058 *
NATION US *
STATE NV *
NW_QUAD_CORNER_XY 606944.410 3991533.100 *
NE_QUAD_CORNER_XY 612573.333 3991603.594 *
SE_QUAD_CORNER_XY 612662.315 3984670.882 *
SW_QUAD_CORNER_XY 607028.941 3984600.438 *
SECONDARY_NW_QUAD_XY 606946.953 3991332.466 *
SECONDARY_NE_QUAD_XY 612576.010 3991402.962 *
SECONDARY_SE_QUAD_XY 612664.990 3984470.424 *
SECONDARY_SW_QUAD_XY 607031.483 3984399.979 *
RMSE_XY 0.922 *
IMAGE_SOURCE "Black and White film" *
SOURCE_IMAGE_ID "NAPP 7339-37" *
SOURCE_IMAGE_DATE 1994 09 11 *
SOURCE_DEM_DATE 1984 00 00 *
AGENCY "WESTERN MAPPING CENTER (WMC)" *
PRODUCER "Hammon, Jensen, Wallen & Associates" *
PRODUCTION_SYSTEM "ORTHOVIEW" *
STANDARD_VERSION 1996 12 *
METADATA_DATE 1998 11 6 *
DATA_FILE_SIZE 48864642 *
BYTE_COUNT 6411 * * * * * * * * * * * * * * * * * * * * * * * * * * * * * * * * * * * * * *
END_USGS_HEADER *
