BEGIN_USGS_DOQ_HEADER *
QUADRANGLE_NAME "PAHRUMP" *
QUADRANT SW *
WEST_LONGITUDE -116 0 0.0 *
EAST_LONGITUDE -115 56 15.0 *
NORTH_LATITUDE 36 11 15.0 *
SOUTH_LATITUDE 36 7 30.0 *
PRODUCTION_DATE 1998 11 5 *
RASTER_ORDER LEFT_RIGHT/TOP_BOTTOM *
BAND_ORGANIZATION "SINGLE FILE" *
BAND_CONTENT BLACK&WHITE *
BITS_PER_PIXEL 8 *
SAMPLES_AND_LINES 6391 7601 *
HORIZONTAL_DATUM NAD83 *
HORIZONTAL_COORDINATE_SYSTEM UTM *
COORDINATE_ZONE 11 *
HORIZONTAL_UNITS METERS *
HORIZONTAL_RESOLUTION 1.0 *
SECONDARY_HORIZONTAL_DATUM NAD27 *
XY_ORIGIN 589530.000 4005570.000 *
SECONDARY_XY_ORIGIN 589609.349 4005374.096 *
NATION US *
STATE NV *
NW_QUAD_CORNER_XY 589915.187 4005208.583 *
NE_QUAD_CORNER_XY 595535.077 4005268.312 *
SE_QUAD_CORNER_XY 595610.936 3998335.601 *
SW_QUAD_CORNER_XY 589986.582 3998275.914 *
SECONDARY_NW_QUAD_XY 589917.333 4005007.596 *
SECONDARY_NE_QUAD_XY 595537.357 4005067.327 *
SECONDARY_SE_QUAD_XY 595613.213 3998134.790 *
SECONDARY_SW_QUAD_XY 589988.726 3998075.101 *
RMSE_XY 0.681 *
IMAGE_SOURCE "Black and White film" *
SOURCE_IMAGE_ID "NAPP 2737-38" *
SOURCE_IMAGE_DATE 1990 04 26 *
SOURCE_IMAGE_ID "NAPP 7339-46" *
SOURCE_IMAGE_DATE 1994 09 11 *
SOURCE_DEM_DATE 1984 00 00 *
AGENCY "WESTERN MAPPING CENTER (WMC)" *
PRODUCER "Hammon, Jensen, Wallen & Associates" *
PRODUCTION_SYSTEM "ORTHOVIEW" *
STANDARD_VERSION 1996 12 *
METADATA_DATE 1998 11 5 *
DATA_FILE_SIZE 48584382 *
BYTE_COUNT 6391 * * * * * * * * * * * * * * * * * * * * * * * * * * * * * * * * * * *
END_USGS_HEADER *
