BEGIN_USGS_DOQ_HEADER *
QUADRANGLE_NAME "HORSE SPRINGS" *
QUADRANT SE *
WEST_LONGITUDE -115 56 15.000 *
EAST_LONGITUDE -115 52 30.000 *
NORTH_LATITUDE 36 18 45.000 *
SOUTH_LATITUDE 36 15 0.000 *
PRODUCTION_DATE 2003 2 18 *
RASTER_ORDER LEFT_RIGHT/TOP_BOTTOM *
BAND_ORGANIZATION "SINGLE FILE" *
BAND_CONTENT BLACK&WHITE *
BITS_PER_PIXEL 8 *
SAMPLES_AND_LINES 6369 7600 *
HORIZONTAL_DATUM NAD83 *
HORIZONTAL_COORDINATE_SYSTEM UTM *
COORDINATE_ZONE 11 *
HORIZONTAL_UNITS METERS *
HORIZONTAL_RESOLUTION 1.0 *
SECONDARY_HORIZONTAL_DATUM NAD27 *
XY_ORIGIN 595005.810 4019500.900 *
SECONDARY_XY_ORIGIN 595085.200 4019304.907 *
NATION US *
STATE NV *
NW_QUAD_CORNER_XY 595383.019 4019133.942 *
NE_QUAD_CORNER_XY 600993.996 4019197.380 *
SE_QUAD_CORNER_XY 601074.559 4012264.486 *
SW_QUAD_CORNER_XY 595459.105 4012201.092 *
SECONDARY_NW_QUAD_XY 595385.304 4018932.614 *
SECONDARY_NE_QUAD_XY 600996.416 4018996.053 *
SECONDARY_SE_QUAD_XY 601076.977 4012063.331 *
SECONDARY_SW_QUAD_XY 595461.388 4011999.935 *
RMSE_XY 1.00 *
IMAGE_SOURCE "BLACK AND WHITE FILM" *
SOURCE_IMAGE_ID "NAPP 11565 33" *
SOURCE_IMAGE_DATE 1999 9 6 *
SOURCE_IMAGE_ID "NAPP 11565 34" *
SOURCE_IMAGE_DATE 1999 9 6 *
SOURCE_IMAGE_ID "NAPP 11565 32" *
SOURCE_IMAGE_DATE 1999 9 6 *
SOURCE_IMAGE_ID "NAPP 11570 50" *
SOURCE_IMAGE_DATE 1999 9 6 *
SOURCE_IMAGE_ID "NAPP 11570 51" *
SOURCE_IMAGE_DATE 1999 9 6 *
SOURCE_IMAGE_ID "NAPP 11570 52" *
SOURCE_IMAGE_DATE 1999 9 6 *
SOURCE_IMAGE_ID "NAPP 11565 60" *
SOURCE_IMAGE_DATE 1999 9 6 *
SOURCE_IMAGE_ID "NAPP 11565 61" *
SOURCE_IMAGE_DATE 1999 9 6 *
SOURCE_IMAGE_ID "NAPP 11565 62" *
SOURCE_IMAGE_DATE 1999 9 6 *
SOURCE_DEM_DATE 2003 1 1 *
AGENCY "WESTERN MAPPING CENTER (WMC)" *
PRODUCER "USDA FS GEOSPATIAL SERVICE AND TECHNOLOGY CENTER" *
PRODUCTION_SYSTEM "ORBIT OR_RECTIFY V.5.2" *
STANDARD_VERSION 1996 12 *
METADATA_DATE 2003 2 18 *
DATA_FILE_SIZE 48410769 *
BYTE_COUNT 6369 * * * * * * * * * * * * * * * * * * * * *
END_USGS_HEADER *
