BEGIN_USGS_DOQ_HEADER *
QUADRANGLE_NAME "HORSE SPRINGS" *
QUADRANT SW *
WEST_LONGITUDE -116 0 0.000 *
EAST_LONGITUDE -115 56 15.000 *
NORTH_LATITUDE 36 18 45.000 *
SOUTH_LATITUDE 36 15 0.000 *
PRODUCTION_DATE 2003 2 18 *
RASTER_ORDER LEFT_RIGHT/TOP_BOTTOM *
BAND_ORGANIZATION "SINGLE FILE" *
BAND_CONTENT BLACK&WHITE *
BITS_PER_PIXEL 8 *
SAMPLES_AND_LINES 6364 7596 *
HORIZONTAL_DATUM NAD83 *
HORIZONTAL_COORDINATE_SYSTEM UTM *
COORDINATE_ZONE 11 *
HORIZONTAL_UNITS METERS *
HORIZONTAL_RESOLUTION 1.0 *
SECONDARY_HORIZONTAL_DATUM NAD27 *
XY_ORIGIN 589394.730 4019437.590 *
SECONDARY_XY_ORIGIN 589474.138 4019241.617 *
NATION US *
STATE NV *
NW_QUAD_CORNER_XY 589772.076 4019074.130 *
NE_QUAD_CORNER_XY 595383.019 4019133.942 *
SE_QUAD_CORNER_XY 595459.105 4012201.092 *
SW_QUAD_CORNER_XY 589843.685 4012141.321 *
SECONDARY_NW_QUAD_XY 589774.228 4018872.800 *
SECONDARY_NE_QUAD_XY 595385.304 4018932.614 *
SECONDARY_SE_QUAD_XY 595461.388 4011999.935 *
SECONDARY_SW_QUAD_XY 589845.835 4011940.163 *
RMSE_XY 1.00 *
IMAGE_SOURCE "BLACK AND WHITE FILM" *
SOURCE_IMAGE_ID "NAPP 11570 51" *
SOURCE_IMAGE_DATE 1999 9 6 *
SOURCE_IMAGE_ID "NAPP 11570 50" *
SOURCE_IMAGE_DATE 1999 9 6 *
SOURCE_IMAGE_ID "NAPP 11570 52" *
SOURCE_IMAGE_DATE 1999 9 6 *
SOURCE_IMAGE_ID "NAPP 11565 34" *
SOURCE_IMAGE_DATE 1999 9 6 *
SOURCE_IMAGE_ID "NAPP 11565 33" *
SOURCE_IMAGE_DATE 1999 9 6 *
SOURCE_IMAGE_ID "NAPP 11565 32" *
SOURCE_IMAGE_DATE 1999 9 6 *
SOURCE_DEM_DATE 2003 1 1 *
AGENCY "WESTERN MAPPING CENTER (WMC)" *
PRODUCER "USDA FS GEOSPATIAL SERVICE AND TECHNOLOGY CENTER" *
PRODUCTION_SYSTEM "ORBIT OR_RECTIFY V.5.2" *
STANDARD_VERSION 1996 12 *
METADATA_DATE 2003 2 18 *
DATA_FILE_SIZE 48347308 *
BYTE_COUNT 6364 * * * * * * * * * * * * * * * * * * * * * * * * * * *
END_USGS_HEADER *
