BEGIN_USGS_DOQ_HEADER *
QUADRANGLE_NAME "MOUNT STIRLING" *
QUADRANT NW *
WEST_LONGITUDE -116 0 0.000 *
EAST_LONGITUDE -115 56 15.000 *
NORTH_LATITUDE 36 30 0.000 *
SOUTH_LATITUDE 36 26 15.000 *
PRODUCTION_DATE 2003 2 18 *
RASTER_ORDER LEFT_RIGHT/TOP_BOTTOM *
BAND_ORGANIZATION "SINGLE FILE" *
BAND_CONTENT BLACK&WHITE *
BITS_PER_PIXEL 8 *
SAMPLES_AND_LINES 6351 7597 *
HORIZONTAL_DATUM NAD83 *
HORIZONTAL_COORDINATE_SYSTEM UTM *
COORDINATE_ZONE 11 *
HORIZONTAL_UNITS METERS *
HORIZONTAL_RESOLUTION 1.0 *
SECONDARY_HORIZONTAL_DATUM NAD27 *
XY_ORIGIN 589179.300 4040236.820 *
SECONDARY_XY_ORIGIN 589258.666 4040040.625 *
NATION US *
STATE NV *
NW_QUAD_CORNER_XY 589556.606 4039872.981 *
NE_QUAD_CORNER_XY 595154.078 4039932.914 *
SE_QUAD_CORNER_XY 595230.505 4032999.853 *
SW_QUAD_CORNER_XY 589628.536 4032939.960 *
SECONDARY_NW_QUAD_XY 589558.764 4039671.140 *
SECONDARY_NE_QUAD_XY 595156.369 4039731.075 *
SECONDARY_SE_QUAD_XY 595232.794 4032798.184 *
SECONDARY_SW_QUAD_XY 589630.692 4032738.288 *
RMSE_XY 1.00 *
IMAGE_SOURCE "BLACK AND WHITE FILM" *
SOURCE_IMAGE_ID "NAPP 11570 57" *
SOURCE_IMAGE_DATE 1999 9 6 *
SOURCE_IMAGE_ID "NAPP 11570 56" *
SOURCE_IMAGE_DATE 1999 9 6 *
SOURCE_IMAGE_ID "NAPP 11570 58" *
SOURCE_IMAGE_DATE 1999 9 6 *
SOURCE_IMAGE_ID "NAPP 11570 107" *
SOURCE_IMAGE_DATE 1999 9 6 *
SOURCE_IMAGE_ID "NAPP 11570 108" *
SOURCE_IMAGE_DATE 1999 9 6 *
SOURCE_IMAGE_ID "NAPP 11570 109" *
SOURCE_IMAGE_DATE 1999 9 6 *
SOURCE_IMAGE_ID "NAPP 11565 28" *
SOURCE_IMAGE_DATE 1999 9 6 *
SOURCE_IMAGE_ID "NAPP 11565 27" *
SOURCE_IMAGE_DATE 1999 9 6 *
SOURCE_IMAGE_ID "NAPP 11565 26" *
SOURCE_IMAGE_DATE 1999 9 6 *
SOURCE_DEM_DATE 2003 1 1 *
AGENCY "WESTERN MAPPING CENTER (WMC)" *
PRODUCER "USDA FS GEOSPATIAL SERVICE AND TECHNOLOGY CENTER" *
PRODUCTION_SYSTEM "ORBIT OR_RECTIFY V.5.2" *
STANDARD_VERSION 1996 12 *
METADATA_DATE 2003 2 18 *
DATA_FILE_SIZE 48254898 *
BYTE_COUNT 6351 * * * * * * * * * * * * * * * * * * * * *
END_USGS_HEADER *
