BEGIN_USGS_DOQ_HEADER *
QUADRANGLE_NAME "Specter Range SW" *
QUADRANT SW *
WEST_LONGITUDE -116 15 00.0 *
EAST_LONGITUDE -116 11 15.0 *
NORTH_LATITUDE 36 33 45.0 *
SOUTH_LATITUDE 36 30 00.0 *
PRODUCTION_DATE 2000 09 12 *
RASTER_ORDER LEFT_RIGHT/TOP_BOTTOM *
BAND_ORGANIZATION BIP *
BAND_CONTENT RED *
BAND_CONTENT GREEN *
BAND_CONTENT BLUE *
BITS_PER_PIXEL 8 *
SAMPLES_AND_LINES 6328 7585 *
HORIZONTAL_DATUM NAD83 *
HORIZONTAL_COORDINATE_SYSTEM UTM *
COORDINATE_ZONE 11 *
HORIZONTAL_UNITS METERS *
HORIZONTAL_RESOLUTION 1.000000 *
SECONDARY_HORIZONTAL_DATUM NAD27 *
XY_ORIGIN 566733.000000 4046948.000000 *
SECONDARY_XY_ORIGIN 566813.454257 4046752.495027 *
NATION US *
STATE NV *
NW_QUAD_CORNER_XY 567112.989889 4046602.534875 *
NE_QUAD_CORNER_XY 572705.844684 4046647.966182 *
SE_QUAD_CORNER_XY 572764.371905 4039714.980475 *
SW_QUAD_CORNER_XY 567167.014240 4039669.579492 *
SECONDARY_NW_QUAD_XY 567114.606820 4046400.519727 *
SECONDARY_NE_QUAD_XY 572707.596372 4046445.952129 *
SECONDARY_SE_QUAD_XY 572766.122170 4039513.135057 *
SECONDARY_SW_QUAD_XY 567168.629857 4039467.732982 *
RMSE_XY 0.987 *
IMAGE_SOURCE "Natural Color Film" *
SOURCE_IMAGE_ID "RSL 10974-58" *
SOURCE_IMAGE_DATE 1998 06 01 *
SOURCE_DEM_DATE 1999 09 09 *
AGENCY "Western Mapping Center (WMC)" *
PRODUCER "US Department of Energy" *
PRODUCTION_SYSTEM "Autometric Softplotter 1.8.3" *
COMPRESSION NULL *
STANDARD_VERSION 1996 12 *
METADATA_DATE 2000 07 26 *
DATA_FILE_SIZE 144012624 *
BYTE_COUNT 18984 * * * * * * * * * * * * * * * * * * * * * * * * * * * * * * * * * * * * * * * * * * * * * * * * * * * * * * * * * * * * * * * * * * * * * * * * * * * * * * * * * * * * * * * * * * * * * * * * * * * * * * * * * * * * * * * * * * * * * * * * * * * * * * * * * * * * * * * * * * * * * * * * * * * * * * * * * * * * * * * * * * * * * * * * * * * * * * * * * * * * * * * * * * * * * * * *
END_USGS_HEADER *
