BEGIN_USGS_DOQ_HEADER *
QUADRANGLE_NAME "Skeleton Hills" *
QUADRANT SW *
WEST_LONGITUDE -116 22 30.0 *
EAST_LONGITUDE -116 18 45.0 *
NORTH_LATITUDE 36 33 45.0 *
SOUTH_LATITUDE 36 30 00.0 *
PRODUCTION_DATE 2000 09 12 *
RASTER_ORDER LEFT_RIGHT/TOP_BOTTOM *
BAND_ORGANIZATION BIP *
BAND_CONTENT RED *
BAND_CONTENT GREEN *
BAND_CONTENT BLUE *
BITS_PER_PIXEL 8 *
SAMPLES_AND_LINES 6309 7577 *
HORIZONTAL_DATUM NAD83 *
HORIZONTAL_COORDINATE_SYSTEM UTM *
COORDINATE_ZONE 11 *
HORIZONTAL_UNITS METERS *
HORIZONTAL_RESOLUTION 1.000000 *
SECONDARY_HORIZONTAL_DATUM NAD27 *
XY_ORIGIN 555548.000000 4046860.000000 *
SECONDARY_XY_ORIGIN 555627.546467 4046664.546031 *
NATION US *
STATE NV *
NW_QUAD_CORNER_XY 555927.348555 4046522.577358 *
NE_QUAD_CORNER_XY 561520.158496 4046560.738648 *
SE_QUAD_CORNER_XY 561569.680163 4039627.811165 *
SW_QUAD_CORNER_XY 555972.367708 4039589.675349 *
SECONDARY_NW_QUAD_XY 555928.695978 4046320.560283 *
SECONDARY_NE_QUAD_XY 561521.640671 4046358.722493 *
SECONDARY_SE_QUAD_XY 561571.161134 4039425.963650 *
SECONDARY_SW_QUAD_XY 555973.714036 4039387.826916 *
RMSE_XY 1.440 *
IMAGE_SOURCE "Natural Color Film" *
SOURCE_IMAGE_ID "RSL 10974-88" *
SOURCE_IMAGE_DATE 1998 06 01 *
SOURCE_DEM_DATE 1999 09 09 *
AGENCY "Western Mapping Center (WMC)" *
PRODUCER "US Department of Energy" *
PRODUCTION_SYSTEM "Autometric Softplotter 1.8.3" *
COMPRESSION NULL *
STANDARD_VERSION 1996 12 *
METADATA_DATE 2000 07 26 *
DATA_FILE_SIZE 143428806 *
BYTE_COUNT 18927 * * * * * * * * * * * * * * * * * * * * * * * * * * * * * * * * * * * * * * * * * * * * * * * * * * * * * * * * * * * * * * * * * * * * * * * * * * * * * * * * * * * * * * * * * * * * * * * * * * * * * * * * * * * * * * * * * * * * * * * * * * * * * * * * * * * * * * * * * * * * * * * * * * * * * * * * * * * * * * * * * * * * * * * * * * * * * * * * * * * * * * * * * * * * * * *
END_USGS_HEADER *
