BEGIN_USGS_DOQ_HEADER *
QUADRANGLE_NAME "South of Amargosa Valley" *
QUADRANT SE *
WEST_LONGITUDE -116 26 15.0 *
EAST_LONGITUDE -116 22 30.0 *
NORTH_LATITUDE 36 33 45.0 *
SOUTH_LATITUDE 36 30 00.0 *
PRODUCTION_DATE 2000 09 13 *
RASTER_ORDER LEFT_RIGHT/TOP_BOTTOM *
BAND_ORGANIZATION BIP *
BAND_CONTENT RED *
BAND_CONTENT GREEN *
BAND_CONTENT BLUE *
BITS_PER_PIXEL 8 *
SAMPLES_AND_LINES 6317 7574 *
HORIZONTAL_DATUM NAD83 *
HORIZONTAL_COORDINATE_SYSTEM UTM *
COORDINATE_ZONE 11 *
HORIZONTAL_UNITS METERS *
HORIZONTAL_RESOLUTION 1.000000 *
SECONDARY_HORIZONTAL_DATUM NAD27 *
XY_ORIGIN 549956.000000 4046824.000000 *
SECONDARY_XY_ORIGIN 550034.899286 4046627.798743 *
NATION US *
STATE NV *
NW_QUAD_CORNER_XY 550334.558115 4046488.050873 *
NE_QUAD_CORNER_XY 555927.348555 4046522.577358 *
SE_QUAD_CORNER_XY 555972.367708 4039589.675349 *
SW_QUAD_CORNER_XY 550375.074911 4039555.171913 *
SECONDARY_NW_QUAD_XY 550335.770789 4046286.032966 *
SECONDARY_NE_QUAD_XY 555928.695978 4046320.560283 *
SECONDARY_SE_QUAD_XY 555973.714036 4039387.826916 *
SECONDARY_SW_QUAD_XY 550376.286599 4039353.322650 *
RMSE_XY 0.851 *
IMAGE_SOURCE "Natural Color Film" *
SOURCE_IMAGE_ID "RSL 10975-43" *
SOURCE_IMAGE_DATE 1998 06 01 *
SOURCE_DEM_DATE 1999 09 01 *
AGENCY "Western Mapping Center (WMC)" *
PRODUCER "US Department of Energy" *
PRODUCTION_SYSTEM "Autometric Softplotter 1.8.3" *
COMPRESSION NULL *
STANDARD_VERSION 1996 12 *
METADATA_DATE 2000 07 26 *
DATA_FILE_SIZE 143553825 *
BYTE_COUNT 18951 * * * * * * * * * * * * * * * * * * * * * * * * * * * * * * * * * * * * * * * * * * * * * * * * * * * * * * * * * * * * * * * * * * * * * * * * * * * * * * * * * * * * * * * * * * * * * * * * * * * * * * * * * * * * * * * * * * * * * * * * * * * * * * * * * * * * * * * * * * * * * * * * * * * * * * * * * * * * * * * * * * * * * * * * * * * * * * * * * * * * * * * * * * * * * * *
END_USGS_HEADER *
