BEGIN_USGS_DOQ_HEADER *
QUADRANGLE_NAME "Big Dune" *
QUADRANT NE *
WEST_LONGITUDE -116 33 45.0 *
EAST_LONGITUDE -116 30 00.0 *
NORTH_LATITUDE 36 45 00.0 *
SOUTH_LATITUDE 36 41 15.0 *
PRODUCTION_DATE 2000 09 07 *
RASTER_ORDER LEFT_RIGHT/TOP_BOTTOM *
BAND_ORGANIZATION BIP *
BAND_CONTENT RED *
BAND_CONTENT GREEN *
BAND_CONTENT BLUE *
BITS_PER_PIXEL 8 *
SAMPLES_AND_LINES 6296 7559 *
HORIZONTAL_DATUM NAD83 *
HORIZONTAL_COORDINATE_SYSTEM UTM *
COORDINATE_ZONE 11 *
HORIZONTAL_UNITS METERS *
HORIZONTAL_RESOLUTION 1.000000 *
SECONDARY_HORIZONTAL_DATUM NAD27 *
XY_ORIGIN 538674.000000 4067552.000000 *
SECONDARY_XY_ORIGIN 538753.996994 4067356.320089 *
NATION US *
STATE NV *
NW_QUAD_CORNER_XY 539054.210361 4067228.856990 *
NE_QUAD_CORNER_XY 544633.421347 4067256.168023 *
SE_QUAD_CORNER_XY 544669.595957 4060323.092669 *
SW_QUAD_CORNER_XY 539085.862874 4060295.799444 *
SECONDARY_NW_QUAD_XY 539055.155826 4067026.336592 *
SECONDARY_NE_QUAD_XY 544634.501884 4067053.648286 *
SECONDARY_SE_QUAD_XY 544670.675627 4060120.739151 *
SECONDARY_SW_QUAD_XY 539086.807580 4060093.445267 *
RMSE_XY 1.469 *
IMAGE_SOURCE "Natural Color Film" *
SOURCE_IMAGE_ID "RSL 10974-155" *
SOURCE_IMAGE_DATE 1998 06 01 *
SOURCE_DEM_DATE 1999 09 11 *
AGENCY "Western Mapping Center (WMC)" *
PRODUCER "US Department of Energy" *
PRODUCTION_SYSTEM "Autometric Softplotter 1.8.3" *
COMPRESSION NULL *
STANDARD_VERSION 1996 12 *
METADATA_DATE 2000 07 26 *
DATA_FILE_SIZE 142793280 *
BYTE_COUNT 18888 * * * * * * * * * * * * * * * * * * * * * * * * * * * * * * * * * * * * * * * * * * * * * * * * * * * * * * * * * * * * * * * * * * * * * * * * * * * * * * * * * * * * * * * * * * * * * * * * * * * * * * * * * * * * * * * * * * * * * * * * * * * * * * * * * * * * * * * * * * * * * * * * * * * * * * * * * * * * * * * * * * * * * * * * * * * * * * * * * * * * * * * * * * * * * * *
END_USGS_HEADER *
