BEGIN_USGS_DOQ_HEADER *
QUADRANGLE_NAME "East of Beatty Mountain" *
QUADRANT SW *
WEST_LONGITUDE -116 37 30.0 *
EAST_LONGITUDE -116 33 45.0 *
NORTH_LATITUDE 36 56 15.0 *
SOUTH_LATITUDE 36 52 30.0 *
PRODUCTION_DATE 2000 09 21 *
RASTER_ORDER LEFT_RIGHT/TOP_BOTTOM *
BAND_ORGANIZATION BIP *
BAND_CONTENT RED *
BAND_CONTENT GREEN *
BAND_CONTENT BLUE *
BITS_PER_PIXEL 8 *
SAMPLES_AND_LINES 6278 7564 *
HORIZONTAL_DATUM NAD83 *
HORIZONTAL_COORDINATE_SYSTEM UTM *
COORDINATE_ZONE 11 *
HORIZONTAL_UNITS METERS *
HORIZONTAL_RESOLUTION 1.000000 *
SECONDARY_HORIZONTAL_DATUM NAD27 *
XY_ORIGIN 533013.000000 4088328.000000 *
SECONDARY_XY_ORIGIN 533093.334411 4088131.959244 *
NATION US *
STATE NV *
NW_QUAD_CORNER_XY 533393.381580 4088004.750214 *
NE_QUAD_CORNER_XY 538958.973348 4088028.465213 *
SE_QUAD_CORNER_XY 538990.765562 4081095.189827 *
SW_QUAD_CORNER_XY 533420.631848 4081071.489924 *
SECONDARY_NW_QUAD_XY 533394.193914 4087801.735440 *
SECONDARY_NE_QUAD_XY 538959.921074 4087825.451016 *
SECONDARY_SE_QUAD_XY 538991.712537 4080892.339419 *
SECONDARY_SW_QUAD_XY 533421.443538 4080868.638940 *
RMSE_XY 0.743 *
IMAGE_SOURCE "Natural Color Film" *
SOURCE_IMAGE_ID "RSL 10976-35" *
SOURCE_IMAGE_DATE 1998 08 18 *
SOURCE_DEM_DATE 1999 10 06 *
AGENCY "Western Mapping Center (WMC)" *
PRODUCER "US Department of Energy" *
PRODUCTION_SYSTEM "Autometric Softplotter 1.8.3" *
COMPRESSION NULL *
STANDARD_VERSION 1996 12 *
METADATA_DATE 2000 07 26 *
DATA_FILE_SIZE 142479210 *
BYTE_COUNT 18834 * * * * * * * * * * * * * * * * * * * * * * * * * * * * * * * * * * * * * * * * * * * * * * * * * * * * * * * * * * * * * * * * * * * * * * * * * * * * * * * * * * * * * * * * * * * * * * * * * * * * * * * * * * * * * * * * * * * * * * * * * * * * * * * * * * * * * * * * * * * * * * * * * * * * * * * * * * * * * * * * * * * * * * * * * * * * * * * * * * * * * * * * * * * * * *
END_USGS_HEADER *
