BEGIN_USGS_DOQ_HEADER *
QUADRANGLE_NAME "MORMON POINT" 3.45 or 7.5-min. name*
QUADRANT NE quadrant indicator if cell size = 3.75-minutes*
WEST_LONGITUDE -116 48 45.000 signed deg min sec SDDD MM SS.SSS*
EAST_LONGITUDE -116 45 0.000 signed deg min sec SDDD MM SS.SSS*
NORTH_LATITUDE 36 7 30.000 signed deg min sec SDDD MM SS.SSS*
SOUTH_LATITUDE 36 3 45.000 signed deg min sec SDDD MM SS.SSS*
PRODUCTION_DATE 1997 1 23 yyyy mm dd*
RASTER_ORDER LEFT_RIGHT/TOP_BOTTOM video display order*
BAND_ORGANIZATION "SINGLE FILE" single file or BSQ, or BIL or BIP*
BAND_CONTENT BLACK&WHITE black&white or red green blue*
BITS_PER_PIXEL 8 radiometric resolution*
SAMPLES_AND_LINES 6360 7590 number of columns and rows*
HORIZONTAL_DATUM NAD83 primary horizontal datum*
HORIZONTAL_COORDINATE_SYSTEM UTM *
COORDINATE_ZONE 11 coordinate system zone number*
HORIZONTAL_UNITS METERS coordinate system units*
HORIZONTAL_RESOLUTION 1.00 pixel horiz. ground sample distance*
SECONDARY_HORIZONTAL_DATUM NAD27 secondary horizontal datum*
XY_ORIGIN 516480.000 3998160.000 coord. of upper left pixel pri. datum*
SECONDARY_XY_ORIGIN 516559.711 3997964.574 coord upper left pixel sec datum*
NATION US nation code*
STATE CA state fip code*
NW_QUAD_CORNER_XY 516872.230 3997829.201 XY coords. of pri. NW quad corner*
NE_QUAD_CORNER_XY 522496.316 3997841.860 XY coords. of pri. NE quad corner*
SE_QUAD_CORNER_XY 522514.135 3990909.567 XY coords. of pri. SE quad corner*
SW_QUAD_CORNER_XY 516885.594 3990896.917 XY coords. of pri. SW quad corner*
SECONDARY_NW_QUAD_XY 516872.632 3997628.377 XY coords. - sec. NW quad cor.*
SECONDARY_NE_QUAD_XY 522496.852 3997641.037 XY coords. - sec. NE quad cor.*
SECONDARY_SE_QUAD_XY 522514.671 3990708.918 XY coords. - sec. SE quad cor.*
SECONDARY_SW_QUAD_XY 516885.996 3990696.268 XY coords. - sec. SW quad cor.*
RMSE_XY 1.20 doq horiz. accuracy*
IMAGE_SOURCE "BLACK AND WHITE FILM" b&w, cir, natural color, other*
SOURCE_IMAGE_ID "NAPP 6873 064" source image id*
SOURCE_IMAGE_DATE 1995 10 1 source image date as yyyy mm dd*
SOURCE_DEM_DATE 1997 1 23 source dem date yyyy mm dd*
AGENCY "WESTERN MAPPING CENTER (WMC)" oversight agency*
PRODUCER "Analytical Surveys" producer/contractor*
PRODUCTION_SYSTEM "ORBIT OR_RECTIFY V.5.2" production system*
STANDARD_VERSION 1996 12 version of DOQ standard*
METADATA_DATE 1997 10 30 date created or changed, yyyy mm dd*
DATA_FILE_SIZE 48278760 data set size in bytes*
BYTE_COUNT 6360 header byte count* * * * * * * * * * * * * * * * * * * * * * * * * * * * * * * * * * * * *
END_USGS_HEADER *
