BEGIN_USGS_DOQ_HEADER *
QUADRANGLE_NAME "EAGLE MOUNTAIN" 3.45 or 7.5-min. name*
QUADRANT NE quadrant indicator if cell size = 3.75-minutes*
WEST_LONGITUDE -116 18 45.000 signed deg min sec SDDD MM SS.SSS*
EAST_LONGITUDE -116 15 0.000 signed deg min sec SDDD MM SS.SSS*
NORTH_LATITUDE 36 15 0.000 signed deg min sec SDDD MM SS.SSS*
SOUTH_LATITUDE 36 11 15.000 signed deg min sec SDDD MM SS.SSS*
PRODUCTION_DATE 1997 2 8 yyyy mm dd*
RASTER_ORDER LEFT_RIGHT/TOP_BOTTOM video display order*
BAND_ORGANIZATION "SINGLE FILE" single file or BSQ, or BIL or BIP*
BAND_CONTENT BLACK&WHITE black&white or red green blue*
BITS_PER_PIXEL 8 radiometric resolution*
SAMPLES_AND_LINES 6390 7620 number of columns and rows*
HORIZONTAL_DATUM NAD83 primary horizontal datum*
HORIZONTAL_COORDINATE_SYSTEM UTM *
COORDINATE_ZONE 11 coordinate system zone number*
HORIZONTAL_UNITS METERS coordinate system units*
HORIZONTAL_RESOLUTION 1.00 pixel horiz. ground sample distance*
SECONDARY_HORIZONTAL_DATUM NAD27 secondary horizontal datum*
XY_ORIGIN 561360.000 4012260.000 coord. of upper left pixel pri. datum*
SECONDARY_XY_ORIGIN 561439.672 4012064.070 coord upper left pixel sec datum*
NATION US nation code*
STATE CA state fip code*
NW_QUAD_CORNER_XY 561767.032 4011896.818 XY coords. of pri. NW quad corner*
NE_QUAD_CORNER_XY 567382.310 4011938.473 XY coords. of pri. NE quad corner*
SE_QUAD_CORNER_XY 567435.933 4005005.875 XY coords. of pri. SE quad corner*
SW_QUAD_CORNER_XY 561816.185 4004964.249 XY coords. of pri. SW quad corner*
SECONDARY_NW_QUAD_XY 561768.508 4011695.653 XY coords. - sec. NW quad cor.*
SECONDARY_NE_QUAD_XY 567383.920 4011737.309 XY coords. - sec. NE quad cor.*
SECONDARY_SE_QUAD_XY 567437.542 4004804.884 XY coords. - sec. SE quad cor.*
SECONDARY_SW_QUAD_XY 561817.660 4004763.257 XY coords. - sec. SW quad cor.*
RMSE_XY 2.60 doq horiz. accuracy*
IMAGE_SOURCE "BLACK AND WHITE FILM" b&w, cir, natural color, other*
SOURCE_IMAGE_ID "NAPP 6820 142" source image id*
SOURCE_IMAGE_DATE 1995 9 29 source image date as yyyy mm dd*
SOURCE_DEM_DATE 1997 2 8 source dem date yyyy mm dd*
AGENCY "WESTERN MAPPING CENTER (WMC)" oversight agency*
PRODUCER "Analytical Surveys" producer/contractor*
PRODUCTION_SYSTEM "ORBIT OR_RECTIFY V.5.2" production system*
STANDARD_VERSION 1996 12 version of DOQ standard*
METADATA_DATE 1997 10 31 date created or changed, yyyy mm dd*
DATA_FILE_SIZE 48698190 data set size in bytes*
BYTE_COUNT 6390 header byte count* * * * * * * * * * * * * * * * * * * * * * * * * * * * * * * * * * * * *
END_USGS_HEADER *
