BEGIN_USGS_DOQ_HEADER *
QUADRANGLE_NAME "BOLE SPRING" 3.45 or 7.5-min. name*
QUADRANT NE quadrant indicator if cell size = 3.75-minutes*
WEST_LONGITUDE -116 18 45.000 signed deg min sec SDDD MM SS.SSS*
EAST_LONGITUDE -116 15 0.000 signed deg min sec SDDD MM SS.SSS*
NORTH_LATITUDE 36 22 30.000 signed deg min sec SDDD MM SS.SSS*
SOUTH_LATITUDE 36 18 45.000 signed deg min sec SDDD MM SS.SSS*
PRODUCTION_DATE 1997 2 10 yyyy mm dd*
RASTER_ORDER LEFT_RIGHT/TOP_BOTTOM video display order*
BAND_ORGANIZATION "SINGLE FILE" single file or BSQ, or BIL or BIP*
BAND_CONTENT BLACK&WHITE black&white or red green blue*
BITS_PER_PIXEL 8 radiometric resolution*
SAMPLES_AND_LINES 6360 7620 number of columns and rows*
HORIZONTAL_DATUM NAD83 primary horizontal datum*
HORIZONTAL_COORDINATE_SYSTEM UTM *
COORDINATE_ZONE 11 coordinate system zone number*
HORIZONTAL_UNITS METERS coordinate system units*
HORIZONTAL_RESOLUTION 1.00 pixel horiz. ground sample distance*
SECONDARY_HORIZONTAL_DATUM NAD27 secondary horizontal datum*
XY_ORIGIN 561270.000 4026120.000 coord. of upper left pixel pri. datum*
SECONDARY_XY_ORIGIN 561349.763 4025923.885 coord upper left pixel sec datum*
NATION US nation code*
STATE NV state fip code*
STATE CA state fip code*
NW_QUAD_CORNER_XY 561668.503 4025762.171 XY coords. of pri. NW quad corner*
NE_QUAD_CORNER_XY 567274.822 4025803.883 XY coords. of pri. NE quad corner*
SE_QUAD_CORNER_XY 567328.606 4018871.142 XY coords. of pri. SE quad corner*
SW_QUAD_CORNER_XY 561717.804 4018829.459 XY coords. of pri. SW quad corner*
SECONDARY_NW_QUAD_XY 561669.982 4025560.664 XY coords. - sec. NW quad cor.*
SECONDARY_NE_QUAD_XY 567276.435 4025602.376 XY coords. - sec. NE quad cor.*
SECONDARY_SE_QUAD_XY 567330.218 4018669.807 XY coords. - sec. SE quad cor.*
SECONDARY_SW_QUAD_XY 561719.282 4018628.122 XY coords. - sec. SW quad cor.*
RMSE_XY 1.10 doq horiz. accuracy*
IMAGE_SOURCE "BLACK AND WHITE FILM" b&w, cir, natural color, other*
SOURCE_IMAGE_ID "NAPP 6820 146" source image id*
SOURCE_IMAGE_DATE 1995 9 29 source image date as yyyy mm dd*
SOURCE_DEM_DATE 1997 2 10 source dem date yyyy mm dd*
AGENCY "WESTERN MAPPING CENTER (WMC)" oversight agency*
PRODUCER "Analytical Surveys" producer/contractor*
PRODUCTION_SYSTEM "ORBIT OR_RECTIFY V.5.2" production system*
STANDARD_VERSION 1996 12 version of DOQ standard*
METADATA_DATE 1997 10 31 date created or changed, yyyy mm dd*
DATA_FILE_SIZE 48469560 data set size in bytes*
BYTE_COUNT 6360 header byte count* * * * * * * * * * * * * * * * * * * * * * * * * * * * * * * * * * * *
END_USGS_HEADER *
