BEGIN_USGS_DOQ_HEADER *
QUADRANGLE_NAME "DEATH VALLEY JUNCTION" 3.45 or 7.5-min. name*
QUADRANT SW quadrant indicator if cell size = 3.75-minutes*
WEST_LONGITUDE -116 30 0.000 signed deg min sec SDDD MM SS.SSS*
EAST_LONGITUDE -116 26 15.000 signed deg min sec SDDD MM SS.SSS*
NORTH_LATITUDE 36 18 45.000 signed deg min sec SDDD MM SS.SSS*
SOUTH_LATITUDE 36 15 0.000 signed deg min sec SDDD MM SS.SSS*
PRODUCTION_DATE 1997 1 28 yyyy mm dd*
RASTER_ORDER LEFT_RIGHT/TOP_BOTTOM video display order*
BAND_ORGANIZATION "SINGLE FILE" single file or BSQ, or BIL or BIP*
BAND_CONTENT BLACK&WHITE black&white or red green blue*
BITS_PER_PIXEL 8 radiometric resolution*
SAMPLES_AND_LINES 6360 7590 number of columns and rows*
HORIZONTAL_DATUM NAD83 primary horizontal datum*
HORIZONTAL_COORDINATE_SYSTEM UTM *
COORDINATE_ZONE 11 coordinate system zone number*
HORIZONTAL_UNITS METERS coordinate system units*
HORIZONTAL_RESOLUTION 1.00 pixel horiz. ground sample distance*
SECONDARY_HORIZONTAL_DATUM NAD27 secondary horizontal datum*
XY_ORIGIN 544500.000 4019070.000 coord. of upper left pixel pri. datum*
SECONDARY_XY_ORIGIN 544579.851 4018874.049 coord upper left pixel sec datum*
NATION US nation code*
STATE CA state fip code*
NW_QUAD_CORNER_XY 544885.523 4018726.159 XY coords. of pri. NW quad corner*
NE_QUAD_CORNER_XY 550496.264 4018756.967 XY coords. of pri. NE quad corner*
SE_QUAD_CORNER_XY 550536.541 4011824.376 XY coords. of pri. SE quad corner*
SW_QUAD_CORNER_XY 544921.323 4011793.589 XY coords. of pri. SW quad corner*
SECONDARY_NW_QUAD_XY 544886.597 4018524.820 XY coords. - sec. NW quad cor.*
SECONDARY_NE_QUAD_XY 550497.473 4018555.629 XY coords. - sec. NE quad cor.*
SECONDARY_SE_QUAD_XY 550537.748 4011623.210 XY coords. - sec. SE quad cor.*
SECONDARY_SW_QUAD_XY 544922.397 4011592.422 XY coords. - sec. SW quad cor.*
RMSE_XY 1.40 doq horiz. accuracy*
IMAGE_SOURCE "BLACK AND WHITE FILM" b&w, cir, natural color, other*
SOURCE_IMAGE_ID "NAPP 6820 046" source image id*
SOURCE_IMAGE_DATE 1995 9 29 source image date as yyyy mm dd*
SOURCE_DEM_DATE 1997 1 28 source dem date yyyy mm dd*
AGENCY "WESTERN MAPPING CENTER (WMC)" oversight agency*
PRODUCER "Analytical Surveys" producer/contractor*
PRODUCTION_SYSTEM "ORBIT OR_RECTIFY V.5.2" production system*
STANDARD_VERSION 1996 12 version of DOQ standard*
METADATA_DATE 1997 10 30 date created or changed, yyyy mm dd*
DATA_FILE_SIZE 48278760 data set size in bytes*
BYTE_COUNT 6360 header byte count* * * * * * * * * * * * * * * * * * * * * * * * * * * * * * * * * * * * *
END_USGS_HEADER *
