BEGIN_USGS_DOQ_HEADER *
QUADRANGLE_NAME "EAST OF RYAN" 3.45 or 7.5-min. name*
QUADRANT NW quadrant indicator if cell size = 3.75-minutes*
WEST_LONGITUDE -116 37 30.000 signed deg min sec SDDD MM SS.SSS*
EAST_LONGITUDE -116 33 45.000 signed deg min sec SDDD MM SS.SSS*
NORTH_LATITUDE 36 22 30.000 signed deg min sec SDDD MM SS.SSS*
SOUTH_LATITUDE 36 18 45.000 signed deg min sec SDDD MM SS.SSS*
PRODUCTION_DATE 1997 1 28 yyyy mm dd*
RASTER_ORDER LEFT_RIGHT/TOP_BOTTOM video display order*
BAND_ORGANIZATION "SINGLE FILE" single file or BSQ, or BIL or BIP*
BAND_CONTENT BLACK&WHITE black&white or red green blue*
BITS_PER_PIXEL 8 radiometric resolution*
SAMPLES_AND_LINES 6330 7590 number of columns and rows*
HORIZONTAL_DATUM NAD83 primary horizontal datum*
HORIZONTAL_COORDINATE_SYSTEM UTM *
COORDINATE_ZONE 11 coordinate system zone number*
HORIZONTAL_UNITS METERS coordinate system units*
HORIZONTAL_RESOLUTION 1.00 pixel horiz. ground sample distance*
SECONDARY_HORIZONTAL_DATUM NAD27 secondary horizontal datum*
XY_ORIGIN 533250.000 4025940.000 coord. of upper left pixel pri. datum*
SECONDARY_XY_ORIGIN 533329.841 4025744.086 coord upper left pixel sec datum*
NATION US nation code*
STATE CA state fip code*
NW_QUAD_CORNER_XY 533637.196 4025608.023 XY coords. of pri. NW quad corner*
NE_QUAD_CORNER_XY 539243.425 4025631.598 XY coords. of pri. NE quad corner*
SE_QUAD_CORNER_XY 539274.797 4018698.975 XY coords. of pri. SE quad corner*
SW_QUAD_CORNER_XY 533664.086 4018675.416 XY coords. of pri. SW quad corner*
SECONDARY_NW_QUAD_XY 533638.002 4025406.512 XY coords. - sec. NW quad cor.*
SECONDARY_NE_QUAD_XY 539244.366 4025430.087 XY coords. - sec. NE quad cor.*
SECONDARY_SE_QUAD_XY 539275.737 4018497.635 XY coords. - sec. SE quad cor.*
SECONDARY_SW_QUAD_XY 533664.892 4018474.076 XY coords. - sec. SW quad cor.*
RMSE_XY 1.10 doq horiz. accuracy*
IMAGE_SOURCE "BLACK AND WHITE FILM" b&w, cir, natural color, other*
SOURCE_IMAGE_ID "NAPP 6870 023" source image id*
SOURCE_IMAGE_DATE 1994 6 8 source image date as yyyy mm dd*
SOURCE_DEM_DATE 1997 1 28 source dem date yyyy mm dd*
AGENCY "WESTERN MAPPING CENTER (WMC)" oversight agency*
PRODUCER "Analytical Surveys" producer/contractor*
PRODUCTION_SYSTEM "ORBIT OR_RECTIFY V.5.2" production system*
STANDARD_VERSION 1996 12 version of DOQ standard*
METADATA_DATE 1997 10 30 date created or changed, yyyy mm dd*
DATA_FILE_SIZE 48051030 data set size in bytes*
BYTE_COUNT 6330 header byte count* * * * * * * * * * * * * * * * * * * * * * * * * * * * * * * * * * * * *
END_USGS_HEADER *
