BEGIN_USGS_DOQ_HEADER *
QUADRANGLE_NAME "AMARGOSA FLAT" *
QUADRANT SW *
WEST_LONGITUDE -116 15 0.0 *
EAST_LONGITUDE -116 11 15.0 *
NORTH_LATITUDE 36 26 15.0 *
SOUTH_LATITUDE 36 22 30.0 *
PRODUCTION_DATE 1998 10 23 *
RASTER_ORDER LEFT_RIGHT/TOP_BOTTOM *
BAND_ORGANIZATION "SINGLE FILE" *
BAND_CONTENT BLACK&WHITE *
BITS_PER_PIXEL 8 *
SAMPLES_AND_LINES 6351 7601 *
HORIZONTAL_DATUM NAD83 *
HORIZONTAL_COORDINATE_SYSTEM UTM *
COORDINATE_ZONE 11 *
HORIZONTAL_UNITS METERS *
HORIZONTAL_RESOLUTION 1.0 *
SECONDARY_HORIZONTAL_DATUM NAD27 *
XY_ORIGIN 566840.000 4033090.000 *
SECONDARY_XY_ORIGIN 566919.742 4032893.778 *
NATION US *
STATE NV *
NW_QUAD_CORNER_XY 567220.958 4032736.696 *
NE_QUAD_CORNER_XY 572822.812 4032782.066 *
SE_QUAD_CORNER_XY 572881.166 4025849.223 *
SW_QUAD_CORNER_XY 567274.822 4025803.883 *
SECONDARY_NW_QUAD_XY 567222.573 4032535.019 *
SECONDARY_NE_QUAD_XY 572824.561 4032580.390 *
SECONDARY_SE_QUAD_XY 572882.913 4025647.717 *
SECONDARY_SW_QUAD_XY 567276.435 4025602.377 *
RMSE_XY 1.357 *
IMAGE_SOURCE "Black and White film" *
SOURCE_IMAGE_ID "NAPP 7317-172" *
SOURCE_IMAGE_DATE 1994 06 02 *
SOURCE_DEM_DATE 1968 00 00 *
AGENCY "WESTERN MAPPING CENTER (WMC)" *
PRODUCER "Hammon, Jensen, Wallen & Associates" *
PRODUCTION_SYSTEM "ORTHOVIEW" *
STANDARD_VERSION 1996 12 *
METADATA_DATE 1998 10 23 *
DATA_FILE_SIZE 48280302 *
BYTE_COUNT 6351 * * * * * * * * * * * * * * * * * * * * * * * * * * * * * * * * * * * * *
END_USGS_HEADER *
