BEGIN_USGS_DOQ_HEADER *
QUADRANGLE_NAME "EAST OF ECHO CANYON" 3.45 or 7.5-min. name*
QUADRANT NW quadrant indicator if cell size = 3.75-minutes*
WEST_LONGITUDE -116 37 30.000 signed deg min sec SDDD MM SS.SSS*
EAST_LONGITUDE -116 33 45.000 signed deg min sec SDDD MM SS.SSS*
NORTH_LATITUDE 36 30 0.000 signed deg min sec SDDD MM SS.SSS*
SOUTH_LATITUDE 36 26 15.000 signed deg min sec SDDD MM SS.SSS*
PRODUCTION_DATE 1997 1 28 yyyy mm dd*
RASTER_ORDER LEFT_RIGHT/TOP_BOTTOM video display order*
BAND_ORGANIZATION "SINGLE FILE" single file or BSQ, or BIL or BIP*
BAND_CONTENT BLACK&WHITE black&white or red green blue*
BITS_PER_PIXEL 8 radiometric resolution*
SAMPLES_AND_LINES 6330 7590 number of columns and rows*
HORIZONTAL_DATUM NAD83 primary horizontal datum*
HORIZONTAL_COORDINATE_SYSTEM UTM *
COORDINATE_ZONE 11 coordinate system zone number*
HORIZONTAL_UNITS METERS coordinate system units*
HORIZONTAL_RESOLUTION 1.00 pixel horiz. ground sample distance*
SECONDARY_HORIZONTAL_DATUM NAD27 secondary horizontal datum*
XY_ORIGIN 533190.000 4039800.000 coord. of upper left pixel pri. datum*
SECONDARY_XY_ORIGIN 533269.867 4039603.919 coord upper left pixel sec datum*
NATION US nation code*
STATE CA state fip code*
NW_QUAD_CORNER_XY 533583.295 4039473.455 XY coords. of pri. NW quad corner*
NE_QUAD_CORNER_XY 539180.540 4039497.062 XY coords. of pri. NE quad corner*
SE_QUAD_CORNER_XY 539212.006 4032564.294 XY coords. of pri. SE quad corner*
SW_QUAD_CORNER_XY 533610.265 4032540.703 XY coords. of pri. SW quad corner*
SECONDARY_NW_QUAD_XY 533584.103 4039271.603 XY coords. - sec. NW quad cor.*
SECONDARY_NE_QUAD_XY 539181.483 4039295.211 XY coords. - sec. NE quad cor.*
SECONDARY_SE_QUAD_XY 539212.948 4032362.613 XY coords. - sec. SE quad cor.*
SECONDARY_SW_QUAD_XY 533611.072 4032339.021 XY coords. - sec. SW quad cor.*
RMSE_XY 2.10 doq horiz. accuracy*
IMAGE_SOURCE "BLACK AND WHITE FILM" b&w, cir, natural color, other*
SOURCE_IMAGE_ID "NAPP 6870 019" source image id*
SOURCE_IMAGE_DATE 1994 6 8 source image date as yyyy mm dd*
SOURCE_DEM_DATE 1997 1 28 source dem date yyyy mm dd*
AGENCY "WESTERN MAPPING CENTER (WMC)" oversight agency*
PRODUCER "Analytical Surveys" producer/contractor*
PRODUCTION_SYSTEM "ORBIT OR_RECTIFY V.5.2" production system*
STANDARD_VERSION 1996 12 version of DOQ standard*
METADATA_DATE 1997 10 30 date created or changed, yyyy mm dd*
DATA_FILE_SIZE 48051030 data set size in bytes*
BYTE_COUNT 6330 header byte count* * * * * * * * * * * * * * * * * * * * * * * * * * * * * * * * * * * * *
END_USGS_HEADER *
