BEGIN_USGS_DOQ_HEADER *
QUADRANGLE_NAME "BEATTY" *
QUADRANT SE *
WEST_LONGITUDE -116 48 45.0 *
EAST_LONGITUDE -116 45 0.0 *
NORTH_LATITUDE 36 56 15.0 *
SOUTH_LATITUDE 36 52 30.0 *
PRODUCTION_DATE 1998 10 21 *
RASTER_ORDER LEFT_RIGHT/TOP_BOTTOM *
BAND_ORGANIZATION "SINGLE FILE" *
BAND_CONTENT BLACK&WHITE *
BITS_PER_PIXEL 8 *
SAMPLES_AND_LINES 6281 7561 *
HORIZONTAL_DATUM NAD83 *
HORIZONTAL_COORDINATE_SYSTEM UTM *
COORDINATE_ZONE 11 *
HORIZONTAL_UNITS METERS *
HORIZONTAL_RESOLUTION 1.0 *
SECONDARY_HORIZONTAL_DATUM NAD27 *
XY_ORIGIN 516310.000 4088270.000 *
SECONDARY_XY_ORIGIN 516390.047 4088073.327 *
NATION US *
STATE NV *
NW_QUAD_CORNER_XY 516696.666 4087955.497 *
NE_QUAD_CORNER_XY 522262.230 4087968.266 *
SE_QUAD_CORNER_XY 522280.396 4081035.029 *
SW_QUAD_CORNER_XY 516710.291 4081022.268 *
SECONDARY_NW_QUAD_XY 516697.072 4087752.481 *
SECONDARY_NE_QUAD_XY 522262.771 4087765.250 *
SECONDARY_SE_QUAD_XY 522280.937 4080832.177 *
SECONDARY_SW_QUAD_XY 516710.696 4080819.415 *
RMSE_XY 2.171 *
IMAGE_SOURCE "Black and White film" *
SOURCE_IMAGE_ID "NAPP 7317-110" *
SOURCE_IMAGE_DATE 1994 06 02 *
SOURCE_IMAGE_ID "NAPP 7317-107" *
SOURCE_IMAGE_DATE 1994 06 02 *
SOURCE_DEM_DATE 1987 00 00 *
AGENCY "WESTERN MAPPING CENTER (WMC)" *
PRODUCER "Hammon, Jensen, Wallen & Associates" *
PRODUCTION_SYSTEM "ORTHOVIEW" *
STANDARD_VERSION 1996 12 *
METADATA_DATE 1998 10 21 *
DATA_FILE_SIZE 47496922 *
BYTE_COUNT 6281 * * * * * * * * * * * * * * * * * * * * * * * * * * * * * * * * * *
END_USGS_HEADER *
