BEGIN_USGS_DOQ_HEADER *
QUADRANGLE_NAME "PETROGLYPH CANYON" *
QUADRANT NE *
NORTH_LATITUDE 36 07 30.000 *
WEST_LONGITUDE -117 41 15.000 *
SOUTH_LATITUDE 36 03 45.000 *
EAST_LONGITUDE -117 37 30.000 *
PRODUCTION_DATE 1998 05 04 *
RASTER_ORDER LEFT_RIGHT/TOP_BOTTOM *
BAND_ORGANIZATION "SINGLE FILE" *
BAND_CONTENT BLACK&WHITE *
BITS_PER_PIXEL 8 *
SAMPLES_AND_LINES 6360 7590 *
HORIZONTAL_DATUM NAD83 *
HORIZONTAL_COORDINATE_SYSTEM UTM *
COORDINATE_ZONE 11 *
HORIZONTAL_UNITS METERS *
HORIZONTAL_RESOLUTION 1.000 *
SECONDARY_HORIZONTAL_DATUM NAD27 *
XY_ORIGIN 437700.000 3998340.000 *
SECONDARY_XY_ORIGIN 437779.848 3998144.848 *
NATION US *
STATE CA *
NW_QUAD_CORNER_XY 438134.735 3998031.751 *
NE_QUAD_CORNER_XY 443758.922 3997993.772 *
SE_QUAD_CORNER_XY 443714.371 3991061.372 *
SW_QUAD_CORNER_XY 438085.728 3991099.325 *
SECONDARY_NW_QUAD_XY 438133.261 3997830.932 *
SECONDARY_NE_QUAD_XY 443757.582 3997792.952 *
SECONDARY_SE_QUAD_XY 443713.032 3990860.727 *
SECONDARY_SW_QUAD_XY 438084.256 3990898.680 *
RMSE_XY 1.348 *
IMAGE_SOURCE "BLACK AND WHITE FILM" *
SOURCE_IMAGE_ID "NAPP 6851 89" *
SOURCE_IMAGE_DATE 1994 05 28 *
SOURCE_DEM_DATE 1982 01 01 *
AGENCY "WESTERN MAPPING CENTER (WMC)" *
PRODUCER "ANALYTICAL SURVEYS INC." *
PRODUCTION_SYSTEM "ORBIT OR_RECTIFY V.5.2" *
STANDARD_VERSION 1996 12 *
METADATA_DATE 1998 05 05 *
DATA_FILE_SIZE 48278760 *
BYTE_COUNT 6360 * * * * * * * * * * * * * * * * * * * * * * * * * * * * * * * * * * * * *
END_USGS_HEADER *
