BEGIN_USGS_DOQ_HEADER *
QUADRANGLE_NAME "CACTUS PEAK" *
QUADRANT NE *
NORTH_LATITUDE 36 07 30.000 *
WEST_LONGITUDE -117 48 45.000 *
SOUTH_LATITUDE 36 03 45.000 *
EAST_LONGITUDE -117 45 00.000 *
PRODUCTION_DATE 1998 05 04 *
RASTER_ORDER LEFT_RIGHT/TOP_BOTTOM *
BAND_ORGANIZATION "SINGLE FILE" *
BAND_CONTENT BLACK&WHITE *
BITS_PER_PIXEL 8 *
SAMPLES_AND_LINES 6420 7620 *
HORIZONTAL_DATUM NAD83 *
HORIZONTAL_COORDINATE_SYSTEM UTM *
COORDINATE_ZONE 11 *
HORIZONTAL_UNITS METERS *
HORIZONTAL_RESOLUTION 1.000 *
SECONDARY_HORIZONTAL_DATUM NAD27 *
XY_ORIGIN 426420.000 3998430.000 *
SECONDARY_XY_ORIGIN 426499.974 3998234.823 *
NATION US *
STATE CA *
NW_QUAD_CORNER_XY 426886.290 3998118.562 *
NE_QUAD_CORNER_XY 432510.525 3998073.348 *
SE_QUAD_CORNER_XY 432457.063 3991140.892 *
SW_QUAD_CORNER_XY 426828.372 3991186.075 *
SECONDARY_NW_QUAD_XY 426884.549 3997917.746 *
SECONDARY_NE_QUAD_XY 432508.917 3997872.530 *
SECONDARY_SE_QUAD_XY 432455.456 3990940.249 *
SECONDARY_SW_QUAD_XY 426826.632 3990985.433 *
RMSE_XY 1.400 *
IMAGE_SOURCE "BLACK AND WHITE FILM" *
SOURCE_IMAGE_ID "NAPP 6853 193" *
SOURCE_IMAGE_DATE 1994 05 28 *
SOURCE_IMAGE_ID "NAPP 6853 186" *
SOURCE_IMAGE_DATE 1994 05 28 *
SOURCE_DEM_DATE 1983 01 01 *
AGENCY "WESTERN MAPPING CENTER (WMC)" *
PRODUCER "ANALYTICAL SURVEYS INC." *
PRODUCTION_SYSTEM "ORBIT OR_RECTIFY V.5.2" *
STANDARD_VERSION 1996 12 *
METADATA_DATE 1998 05 05 *
DATA_FILE_SIZE 48926820 *
BYTE_COUNT 6420 * * * * * * * * * * * * * * * * * * * * * * * * * * * * * * * * * * * *
END_USGS_HEADER *
