BEGIN_USGS_DOQ_HEADER *
QUADRANGLE_NAME "CACTUS PEAK" *
QUADRANT NW *
NORTH_LATITUDE 36 07 30.000 *
WEST_LONGITUDE -117 52 30.000 *
SOUTH_LATITUDE 36 03 45.000 *
EAST_LONGITUDE -117 48 45.000 *
PRODUCTION_DATE 1998 05 04 *
RASTER_ORDER LEFT_RIGHT/TOP_BOTTOM *
BAND_ORGANIZATION "SINGLE FILE" *
BAND_CONTENT BLACK&WHITE *
BITS_PER_PIXEL 8 *
SAMPLES_AND_LINES 6390 7620 *
HORIZONTAL_DATUM NAD83 *
HORIZONTAL_COORDINATE_SYSTEM UTM *
COORDINATE_ZONE 11 *
HORIZONTAL_UNITS METERS *
HORIZONTAL_RESOLUTION 1.000 *
SECONDARY_HORIZONTAL_DATUM NAD27 *
XY_ORIGIN 420810.000 3998490.000 *
SECONDARY_XY_ORIGIN 420890.028 3998294.816 *
NATION US *
STATE CA *
NW_QUAD_CORNER_XY 421262.029 3998167.395 *
NE_QUAD_CORNER_XY 426886.290 3998118.562 *
SE_QUAD_CORNER_XY 426828.372 3991186.075 *
SW_QUAD_CORNER_XY 421199.655 3991234.873 *
SECONDARY_NW_QUAD_XY 421260.153 3997966.579 *
SECONDARY_NE_QUAD_XY 426884.549 3997917.746 *
SECONDARY_SE_QUAD_XY 426826.632 3990985.433 *
SECONDARY_SW_QUAD_XY 421197.781 3991034.232 *
RMSE_XY 1.611 *
IMAGE_SOURCE "BLACK AND WHITE FILM" *
SOURCE_IMAGE_ID "NAPP 6851 62" *
SOURCE_IMAGE_DATE 1994 05 28 *
SOURCE_DEM_DATE 1983 01 01 *
AGENCY "WESTERN MAPPING CENTER (WMC)" *
PRODUCER "ANALYTICAL SURVEYS INC." *
PRODUCTION_SYSTEM "ORBIT OR_RECTIFY V.5.2" *
STANDARD_VERSION 1996 12 *
METADATA_DATE 1998 05 05 *
DATA_FILE_SIZE 48698190 *
BYTE_COUNT 6390 * * * * * * * * * * * * * * * * * * * * * * * * * * * * * * * * * * * * *
END_USGS_HEADER *
