BEGIN_USGS_DOQ_HEADER *
QUADRANGLE_NAME "COSO JUNCTION" 3.45 or 7.5-min. name*
QUADRANT NW quadrant indicator if cell size = 3.75-minutes*
WEST_LONGITUDE -118 0 0.000 signed deg min sec SDDD MM SS.SSS*
EAST_LONGITUDE -117 56 15.000 signed deg min sec SDDD MM SS.SSS*
NORTH_LATITUDE 36 7 30.000 signed deg min sec SDDD MM SS.SSS*
SOUTH_LATITUDE 36 3 45.000 signed deg min sec SDDD MM SS.SSS*
PRODUCTION_DATE 1998 6 24 yyyy mm dd*
RASTER_ORDER LEFT_RIGHT/TOP_BOTTOM video display order*
BAND_ORGANIZATION "SINGLE FILE" single file or BSQ, or BIL or BIP*
BAND_CONTENT BLACK&WHITE black&white or red green blue*
BITS_PER_PIXEL 8 radiometric resolution*
SAMPLES_AND_LINES 6381 7597 number of columns and rows*
HORIZONTAL_DATUM NAD83 primary horizontal datum*
HORIZONTAL_COORDINATE_SYSTEM UTM *
COORDINATE_ZONE 11 coordinate system zone number*
HORIZONTAL_UNITS METERS coordinate system units*
HORIZONTAL_RESOLUTION 1.00 pixel horiz. ground sample distance*
SECONDARY_HORIZONTAL_DATUM NAD27 secondary horizontal datum*
XY_ORIGIN 409558.000 3998576.000 coord. of upper left pixel pri. datum*
SECONDARY_XY_ORIGIN 409638.136 3998380.801 coord upper left pixel sec datum*
NATION US nation code*
STATE CA state fip code*
NW_QUAD_CORNER_XY 410013.418 3998275.914 XY coords. of pri. NW quad corner*
NE_QUAD_CORNER_XY 415637.739 3998219.845 XY coords. of pri. NE quad corner*
SE_QUAD_CORNER_XY 415570.908 3991287.287 XY coords. of pri. SE quad corner*
SW_QUAD_CORNER_XY 409942.131 3991343.316 XY coords. of pri. SW quad corner*
SECONDARY_NW_QUAD_XY 410011.274 3998075.101 XY coords. - sec. NW quad cor.*
SECONDARY_NE_QUAD_XY 415635.729 3998019.031 XY coords. - sec. NE quad cor.*
SECONDARY_SE_QUAD_XY 415568.900 3991086.647 XY coords. - sec. SE quad cor.*
SECONDARY_SW_QUAD_XY 409939.989 3991142.677 XY coords. - sec. SW quad cor.*
RMSE_XY 1.20 doq horiz. accuracy*
IMAGE_SOURCE "BLACK AND WHITE FILM" b&w, cir, natural color, other*
SOURCE_IMAGE_ID "NAPP 6851 012" source image id*
SOURCE_IMAGE_DATE 1994 05 28 source image date as yyyy mm dd*
IMAGE_SOURCE "BLACK AND WHITE FILM" b&w, cir, natural color, other*
SOURCE_IMAGE_ID "NAPP 6851 010" source image id*
SOURCE_IMAGE_DATE 1994 05 28 source image date as yyyy mm dd*
IMAGE_SOURCE "BLACK AND WHITE FILM" b&w, cir, natural color, other*
SOURCE_IMAGE_ID "NAPP 6851 013" source image id*
SOURCE_IMAGE_DATE 1994 05 28 source image date as yyyy mm dd*
IMAGE_SOURCE "BLACK AND WHITE FILM" b&w, cir, natural color, other*
SOURCE_IMAGE_ID "NAPP 6851 039" source image id*
SOURCE_IMAGE_DATE 1994 05 28 source image date as yyyy mm dd*
SOURCE_DEM_DATE 1997 01 01 source dem date yyyy mm dd*
AGENCY "WESTERN MAPPING CENTER (WMC)" oversight agency*
PRODUCER "SCIENCE APPLICATIONS INTERNATIONAL" producer/contractor*
PRODUCTION_SYSTEM "GIS/MAGIC" production system*
STANDARD_VERSION 1996 12 version of DOQ standard*
METADATA_DATE 1998 06 25 date created or changed, yyyy mm dd*
DATA_FILE_SIZE 48482838 data set size in bytes*
BYTE_COUNT 6381 header byte count* * * * * * * * * * * * * * * * * * * * * * * * * * * *
END_USGS_HEADER *
