BEGIN_USGS_DOQ_HEADER *
QUADRANGLE_NAME "MATURANGO PEAK NE" 3.45 or 7.5-min. name*
QUADRANT NE quadrant indicator if cell size = 3.75-minutes*
WEST_LONGITUDE -117 18 45.000 signed deg min sec SDDD MM SS.SSS*
EAST_LONGITUDE -117 15 0.000 signed deg min sec SDDD MM SS.SSS*
NORTH_LATITUDE 36 15 0.000 signed deg min sec SDDD MM SS.SSS*
SOUTH_LATITUDE 36 11 15.000 signed deg min sec SDDD MM SS.SSS*
PRODUCTION_DATE 1997 1 15 yyyy mm dd*
RASTER_ORDER LEFT_RIGHT/TOP_BOTTOM video display order*
BAND_ORGANIZATION "SINGLE FILE" single file or BSQ, or BIL or BIP*
BAND_CONTENT BLACK&WHITE black&white or red green blue*
BITS_PER_PIXEL 8 radiometric resolution*
SAMPLES_AND_LINES 6330 7590 number of columns and rows*
HORIZONTAL_DATUM NAD83 primary horizontal datum*
HORIZONTAL_COORDINATE_SYSTEM UTM *
COORDINATE_ZONE 11 coordinate system zone number*
HORIZONTAL_UNITS METERS coordinate system units*
HORIZONTAL_RESOLUTION 1.00 pixel horiz. ground sample distance*
SECONDARY_HORIZONTAL_DATUM NAD27 secondary horizontal datum*
XY_ORIGIN 471510.000 4012050.000 coord. of upper left pixel pri. datum*
SECONDARY_XY_ORIGIN 471589.751 4011854.664 coord upper left pixel sec datum*
NATION US nation code*
STATE CA state fip code*
NW_QUAD_CORNER_XY 471924.239 4011722.961 XY coords. of pri. NW quad corner*
NE_QUAD_CORNER_XY 477539.403 4011706.662 XY coords. of pri. NE quad corner*
SE_QUAD_CORNER_XY 477521.530 4004774.225 XY coords. of pri. SE quad corner*
SW_QUAD_CORNER_XY 471901.897 4004790.512 XY coords. of pri. SW quad corner*
SECONDARY_NW_QUAD_XY 471923.568 4011521.792 XY coords. - sec. NW quad cor.*
SECONDARY_NE_QUAD_XY 477538.866 4011505.493 XY coords. - sec. NE quad cor.*
SECONDARY_SE_QUAD_XY 477520.994 4004573.228 XY coords. - sec. SE quad cor.*
SECONDARY_SW_QUAD_XY 471901.227 4004589.516 XY coords. - sec. SW quad cor.*
RMSE_XY 2.20 doq horiz. accuracy*
IMAGE_SOURCE "BLACK AND WHITE FILM" b&w, cir, natural color, other*
SOURCE_IMAGE_ID "NAPP 6854 124" source image id*
SOURCE_IMAGE_DATE 1994 5 29 source image date as yyyy mm dd*
SOURCE_DEM_DATE 1997 1 15 source dem date yyyy mm dd*
AGENCY "WESTERN MAPPING CENTER (WMC)" oversight agency*
PRODUCER "Analytical Surveys" producer/contractor*
PRODUCTION_SYSTEM "ORBIT OR_RECTIFY V.5.2" production system*
STANDARD_VERSION 1996 12 version of DOQ standard*
METADATA_DATE 1997 6 10 date created or changed, yyyy mm dd*
DATA_FILE_SIZE 48051030 data set size in bytes*
BYTE_COUNT 6330 header byte count* * * * * * * * * * * * * * * * * * * * * * * * * * * * * * * * * * * * *
END_USGS_HEADER *
