BEGIN_USGS_DOQ_HEADER *
QUADRANGLE_NAME "CHINA GARDENS SPRING" *
QUADRANT SE *
NORTH_LATITUDE 36 11 15.000 *
WEST_LONGITUDE -117 33 45.000 *
SOUTH_LATITUDE 36 07 30.000 *
EAST_LONGITUDE -117 30 00.000 *
PRODUCTION_DATE 1998 05 06 *
RASTER_ORDER LEFT_RIGHT/TOP_BOTTOM *
BAND_ORGANIZATION "SINGLE FILE" *
BAND_CONTENT BLACK&WHITE *
BITS_PER_PIXEL 8 *
SAMPLES_AND_LINES 6390 7590 *
HORIZONTAL_DATUM NAD83 *
HORIZONTAL_COORDINATE_SYSTEM UTM *
COORDINATE_ZONE 11 *
HORIZONTAL_UNITS METERS *
HORIZONTAL_RESOLUTION 1.000 *
SECONDARY_HORIZONTAL_DATUM NAD27 *
XY_ORIGIN 448980.000 4005210.000 *
SECONDARY_XY_ORIGIN 449059.713 4005014.852 *
NATION US *
STATE CA *
NW_QUAD_CORNER_XY 449423.244 4004891.857 *
NE_QUAD_CORNER_XY 455042.930 4004861.092 *
SE_QUAD_CORNER_XY 455007.236 3997928.666 *
SW_QUAD_CORNER_XY 449383.088 3997959.410 *
SECONDARY_NW_QUAD_XY 449422.037 4004690.864 *
SECONDARY_NE_QUAD_XY 455041.857 4004660.097 *
SECONDARY_SE_QUAD_XY 455006.164 3997727.845 *
SECONDARY_SW_QUAD_XY 449381.882 3997758.590 *
RMSE_XY 2.518 *
IMAGE_SOURCE "BLACK AND WHITE FILM" *
SOURCE_IMAGE_ID "NAPP 6879 145" *
SOURCE_IMAGE_DATE 1995 10 07 *
SOURCE_DEM_DATE 1982 01 01 *
AGENCY "WESTERN MAPPING CENTER (WMC)" *
PRODUCER "ANALYTICAL SURVEYS INC." *
PRODUCTION_SYSTEM "ORBIT OR_RECTIFY V.5.2" *
STANDARD_VERSION 1996 12 *
METADATA_DATE 1998 09 09 *
DATA_FILE_SIZE 48506490 *
BYTE_COUNT 6390 * * * * * * * * * * * * * * * * * * * * * * * * * * * * * * * * * * * * *
END_USGS_HEADER *
