BEGIN_USGS_DOQ_HEADER *
QUADRANGLE_NAME "COSO PEAK" *
QUADRANT SW *
NORTH_LATITUDE 36 11 15.000 *
WEST_LONGITUDE -117 45 00.000 *
SOUTH_LATITUDE 36 07 30.000 *
EAST_LONGITUDE -117 41 15.000 *
PRODUCTION_DATE 1998 05 06 *
RASTER_ORDER LEFT_RIGHT/TOP_BOTTOM *
BAND_ORGANIZATION "SINGLE FILE" *
BAND_CONTENT BLACK&WHITE *
BITS_PER_PIXEL 8 *
SAMPLES_AND_LINES 6390 7620 *
HORIZONTAL_DATUM NAD83 *
HORIZONTAL_COORDINATE_SYSTEM UTM *
COORDINATE_ZONE 11 *
HORIZONTAL_UNITS METERS *
HORIZONTAL_RESOLUTION 1.000 *
SECONDARY_HORIZONTAL_DATUM NAD27 *
XY_ORIGIN 432120.000 4005330.000 *
SECONDARY_XY_ORIGIN 432199.937 4005134.815 *
NATION US *
STATE CA *
NW_QUAD_CORNER_XY 432564.067 4005005.875 *
NE_QUAD_CORNER_XY 438183.815 4004964.249 *
SE_QUAD_CORNER_XY 438134.735 3998031.751 *
SW_QUAD_CORNER_XY 432510.525 3998073.348 *
SECONDARY_NW_QUAD_XY 432562.458 4004804.884 *
SECONDARY_NE_QUAD_XY 438182.340 4004763.257 *
SECONDARY_SE_QUAD_XY 438133.261 3997830.932 *
SECONDARY_SW_QUAD_XY 432508.917 3997872.530 *
RMSE_XY 1.213 *
IMAGE_SOURCE "BLACK AND WHITE FILM" *
SOURCE_IMAGE_ID "NAPP 6853 184" *
SOURCE_IMAGE_DATE 1994 05 28 *
SOURCE_DEM_DATE 1982 01 01 *
AGENCY "WESTERN MAPPING CENTER (WMC)" *
PRODUCER "ANALYTICAL SURVEYS INC." *
PRODUCTION_SYSTEM "ORBIT OR_RECTIFY V.5.2" *
STANDARD_VERSION 1996 12 *
METADATA_DATE 1998 05 07 *
DATA_FILE_SIZE 48698190 *
BYTE_COUNT 6390 * * * * * * * * * * * * * * * * * * * * * * * * * * * * * * * * * * * * *
END_USGS_HEADER *
