BEGIN_USGS_DOQ_HEADER *
QUADRANGLE_NAME "VERMILLION CANYON" 3.45 or 7.5-min. name*
QUADRANT SW quadrant indicator if cell size = 3.75-minutes*
WEST_LONGITUDE -118 0 0.000 signed deg min sec SDDD MM SS.SSS*
EAST_LONGITUDE -117 56 15.000 signed deg min sec SDDD MM SS.SSS*
NORTH_LATITUDE 36 18 45.000 signed deg min sec SDDD MM SS.SSS*
SOUTH_LATITUDE 36 15 0.000 signed deg min sec SDDD MM SS.SSS*
PRODUCTION_DATE 1998 1 28 yyyy mm dd*
RASTER_ORDER LEFT_RIGHT/TOP_BOTTOM video display order*
BAND_ORGANIZATION "SINGLE FILE" single file or BSQ, or BIL or BIP*
BAND_CONTENT BLACK&WHITE black&white or red green blue*
BITS_PER_PIXEL 8 radiometric resolution*
SAMPLES_AND_LINES 6368 7598 number of columns and rows*
HORIZONTAL_DATUM NAD83 primary horizontal datum*
HORIZONTAL_COORDINATE_SYSTEM UTM *
COORDINATE_ZONE 11 coordinate system zone number*
HORIZONTAL_UNITS METERS coordinate system units*
HORIZONTAL_RESOLUTION 1.00 pixel horiz. ground sample distance*
SECONDARY_HORIZONTAL_DATUM NAD27 secondary horizontal datum*
XY_ORIGIN 409772.000 4019375.000 coord. of upper left pixel pri. datum*
SECONDARY_XY_ORIGIN 409852.208 4019179.720 coord upper left pixel sec datum*
NATION US nation code*
STATE CA state fip code*
NW_QUAD_CORNER_XY 410227.924 4019074.130 XY coords. of pri. NW quad corner*
NE_QUAD_CORNER_XY 415838.835 4019017.945 XY coords. of pri. NE quad corner*
SE_QUAD_CORNER_XY 415771.702 4012085.174 XY coords. of pri. SE quad corner*
SW_QUAD_CORNER_XY 410156.315 4012141.321 XY coords. of pri. SW quad corner*
SECONDARY_NW_QUAD_XY 410225.775 4018872.800 XY coords. - sec. NW quad cor.*
SECONDARY_NE_QUAD_XY 415836.820 4018816.613 XY coords. - sec. NE quad cor.*
SECONDARY_SE_QUAD_XY 415769.689 4011884.014 XY coords. - sec. SE quad cor.*
SECONDARY_SW_QUAD_XY 410154.168 4011940.162 XY coords. - sec. SW quad cor.*
RMSE_XY 1.70 doq horiz. accuracy*
IMAGE_SOURCE "BLACK AND WHITE FILM" b&w, cir, natural color, other*
SOURCE_IMAGE_ID "NAPP 6851 018" source image id*
SOURCE_IMAGE_DATE 1994 5 28 source image date as yyyy mm dd*
SOURCE_DEM_DATE 1998 1 28 source dem date yyyy mm dd*
AGENCY "WESTERN MAPPING CENTER (WMC)" oversight agency*
PRODUCER "SCIENCE APPLICATIONS INTERNATIONAL" *
PRODUCTION_SYSTEM "GIS/MAGIC" production system*
STANDARD_VERSION 1996 12 version of DOQ standard*
METADATA_DATE 1998 3 11 date created or changed, yyyy mm dd*
DATA_FILE_SIZE 48390432 data set size in bytes*
BYTE_COUNT 6368 header byte count* * * * * * * * * * * * * * * * * * * * * * * * * * * * * * * * * * * * *
END_USGS_HEADER *
