BEGIN_USGS_DOQ_HEADER *
QUADRANGLE_NAME "OWENS LAKE" 3.45 or 7.5-min. name*
QUADRANT SE quadrant indicator if cell size = 3.75-minutes*
WEST_LONGITUDE -117 56 15.000 signed deg min sec SDDD MM SS.SSS*
EAST_LONGITUDE -117 52 30.000 signed deg min sec SDDD MM SS.SSS*
NORTH_LATITUDE 36 26 15.000 signed deg min sec SDDD MM SS.SSS*
SOUTH_LATITUDE 36 22 30.000 signed deg min sec SDDD MM SS.SSS*
PRODUCTION_DATE 1998 1 28 yyyy mm dd*
RASTER_ORDER LEFT_RIGHT/TOP_BOTTOM video display order*
BAND_ORGANIZATION "SINGLE FILE" single file or BSQ, or BIL or BIP*
BAND_CONTENT BLACK&WHITE black&white or red green blue*
BITS_PER_PIXEL 8 radiometric resolution*
SAMPLES_AND_LINES 6355 7595 number of columns and rows*
HORIZONTAL_DATUM NAD83 primary horizontal datum*
HORIZONTAL_COORDINATE_SYSTEM UTM *
COORDINATE_ZONE 11 coordinate system zone number*
HORIZONTAL_UNITS METERS coordinate system units*
HORIZONTAL_RESOLUTION 1.00 pixel horiz. ground sample distance*
SECONDARY_HORIZONTAL_DATUM NAD27 secondary horizontal datum*
XY_ORIGIN 415522.000 4033184.000 coord. of upper left pixel pri. datum*
SECONDARY_XY_ORIGIN 415602.132 4032988.641 coord upper left pixel sec datum*
NATION US nation code*
STATE CA state fip code*
NW_QUAD_CORNER_XY 415973.401 4032883.698 XY coords. of pri. NW quad corner*
NE_QUAD_CORNER_XY 421575.308 4032831.067 XY coords. of pri. NE quad corner*
SE_QUAD_CORNER_XY 421512.465 4025898.190 XY coords. of pri. SE quad corner*
SW_QUAD_CORNER_XY 415906.068 4025950.786 XY coords. of pri. SW quad corner*
SECONDARY_NW_QUAD_XY 415971.383 4032682.025 XY coords. - sec. NW quad cor.*
SECONDARY_NE_QUAD_XY 421573.425 4032629.392 XY coords. - sec. NE quad cor.*
SECONDARY_SE_QUAD_XY 421510.583 4025696.686 XY coords. - sec. SE quad cor.*
SECONDARY_SW_QUAD_XY 415904.051 4025749.283 XY coords. - sec. SW quad cor.*
RMSE_XY 1.10 doq horiz. accuracy*
IMAGE_SOURCE "BLACK AND WHITE FILM" b&w, cir, natural color, other*
SOURCE_IMAGE_ID "NAPP 6851 029" source image id*
SOURCE_IMAGE_DATE 1994 5 28 source image date as yyyy mm dd*
SOURCE_DEM_DATE 1998 1 28 source dem date yyyy mm dd*
AGENCY "WESTERN MAPPING CENTER (WMC)" oversight agency*
PRODUCER "SCIENCE APPLICATIONS INTERNATIONAL" *
PRODUCTION_SYSTEM "GIS/MAGIC" production system*
STANDARD_VERSION 1996 12 version of DOQ standard*
METADATA_DATE 1998 3 11 date created or changed, yyyy mm dd*
DATA_FILE_SIZE 48272580 data set size in bytes*
BYTE_COUNT 6355 header byte count* * * * * * * * * * * * * * * * * * * * * * * * * * * * * * * * * * * * *
END_USGS_HEADER *
