BEGIN_USGS_DOQ_HEADER *
QUADRANGLE_NAME "STOVEPIPE WELLS" 3.45 or 7.5-min. name*
QUADRANT SE quadrant indicator if cell size = 3.75-minutes*
WEST_LONGITUDE -117 11 15.000 signed deg min sec SDDD MM SS.SSS*
EAST_LONGITUDE -117 7 30.000 signed deg min sec SDDD MM SS.SSS*
NORTH_LATITUDE 36 33 45.000 signed deg min sec SDDD MM SS.SSS*
SOUTH_LATITUDE 36 30 0.000 signed deg min sec SDDD MM SS.SSS*
PRODUCTION_DATE 1997 1 7 yyyy mm dd*
RASTER_ORDER LEFT_RIGHT/TOP_BOTTOM video display order*
BAND_ORGANIZATION "SINGLE FILE" single file or BSQ, or BIL or BIP*
BAND_CONTENT BLACK&WHITE black&white or red green blue*
BITS_PER_PIXEL 8 radiometric resolution*
SAMPLES_AND_LINES 6300 7590 number of columns and rows*
HORIZONTAL_DATUM NAD83 primary horizontal datum*
HORIZONTAL_COORDINATE_SYSTEM UTM *
COORDINATE_ZONE 11 coordinate system zone number*
HORIZONTAL_UNITS METERS coordinate system units*
HORIZONTAL_RESOLUTION 1.00 pixel horiz. ground sample distance*
SECONDARY_HORIZONTAL_DATUM NAD27 secondary horizontal datum*
XY_ORIGIN 482820.000 4046670.000 coord. of upper left pixel pri. datum*
SECONDARY_XY_ORIGIN 482899.881 4046473.874 coord upper left pixel sec datum*
NATION US nation code*
STATE CA state fip code*
NW_QUAD_CORNER_XY 483221.884 4046357.217 XY coords. of pri. NW quad corner*
NE_QUAD_CORNER_XY 488814.593 4046348.132 XY coords. of pri. NE quad corner*
SE_QUAD_CORNER_XY 488805.589 4039415.346 XY coords. of pri. SE quad corner*
SW_QUAD_CORNER_XY 483208.379 4039424.425 XY coords. of pri. SW quad corner*
SECONDARY_NW_QUAD_XY 483221.480 4046155.196 XY coords. - sec. NW quad cor.*
SECONDARY_NE_QUAD_XY 488814.323 4046146.110 XY coords. - sec. NE quad cor.*
SECONDARY_SE_QUAD_XY 488805.320 4039213.493 XY coords. - sec. SE quad cor.*
SECONDARY_SW_QUAD_XY 483207.975 4039222.573 XY coords. - sec. SW quad cor.*
RMSE_XY 1.60 doq horiz. accuracy*
IMAGE_SOURCE "BLACK AND WHITE FILM" b&w, cir, natural color, other*
SOURCE_IMAGE_ID "NAPP 6301 141" source image id*
SOURCE_IMAGE_DATE 1993 6 9 source image date as yyyy mm dd*
SOURCE_DEM_DATE 1997 1 7 source dem date yyyy mm dd*
AGENCY "WESTERN MAPPING CENTER (WMC)" oversight agency*
PRODUCER "Analytical Surveys" producer/contractor*
PRODUCTION_SYSTEM "ORBIT OR_RECTIFY V.5.2" production system*
STANDARD_VERSION 1996 12 version of DOQ standard*
METADATA_DATE 1997 6 10 date created or changed, yyyy mm dd*
DATA_FILE_SIZE 47823300 data set size in bytes*
BYTE_COUNT 6300 header byte count* * * * * * * * * * * * * * * * * * * * * * * * * * * * * * * * * * * *
END_USGS_HEADER *
