BEGIN_USGS_DOQ_HEADER *
QUADRANGLE_NAME "SAND FLAT" 3.45 or 7.5-min. name*
QUADRANT SE quadrant indicator if cell size = 3.75-minutes*
WEST_LONGITUDE -117 26 15.000 signed deg min sec SDDD MM SS.SSS*
EAST_LONGITUDE -117 22 30.000 signed deg min sec SDDD MM SS.SSS*
NORTH_LATITUDE 36 41 15.000 signed deg min sec SDDD MM SS.SSS*
SOUTH_LATITUDE 36 37 30.000 signed deg min sec SDDD MM SS.SSS*
PRODUCTION_DATE 1997 1 27 yyyy mm dd*
RASTER_ORDER LEFT_RIGHT/TOP_BOTTOM video display order*
BAND_ORGANIZATION "SINGLE FILE" single file or BSQ, or BIL or BIP*
BAND_CONTENT BLACK&WHITE black&white or red green blue*
BITS_PER_PIXEL 8 radiometric resolution*
SAMPLES_AND_LINES 6300 7590 number of columns and rows*
HORIZONTAL_DATUM NAD83 primary horizontal datum*
HORIZONTAL_COORDINATE_SYSTEM UTM *
COORDINATE_ZONE 11 coordinate system zone number*
HORIZONTAL_UNITS METERS coordinate system units*
HORIZONTAL_RESOLUTION 1.00 pixel horiz. ground sample distance*
SECONDARY_HORIZONTAL_DATUM NAD27 secondary horizontal datum*
XY_ORIGIN 460500.000 4060620.000 coord. of upper left pixel pri. datum*
SECONDARY_XY_ORIGIN 460579.596 4060423.947 coord upper left pixel sec datum*
NATION US nation code*
STATE CA state fip code*
NW_QUAD_CORNER_XY 460914.137 4060295.799 XY coords. of pri. NW quad corner*
NE_QUAD_CORNER_XY 466497.857 4060272.145 XY coords. of pri. NE quad corner*
SE_QUAD_CORNER_XY 466470.766 4053339.176 XY coords. of pri. SE quad corner*
SW_QUAD_CORNER_XY 460882.531 4053362.814 XY coords. of pri. SW quad corner*
SECONDARY_NW_QUAD_XY 460913.192 4060093.445 XY coords. - sec. NW quad cor.*
SECONDARY_NE_QUAD_XY 466497.047 4060069.791 XY coords. - sec. NE quad cor.*
SECONDARY_SE_QUAD_XY 466469.957 4053136.988 XY coords. - sec. SE quad cor.*
SECONDARY_SW_QUAD_XY 460881.587 4053160.627 XY coords. - sec. SW quad cor.*
RMSE_XY 2.10 doq horiz. accuracy*
IMAGE_SOURCE "BLACK AND WHITE FILM" b&w, cir, natural color, other*
SOURCE_IMAGE_ID "NAPP 6298 061" source image id*
SOURCE_IMAGE_DATE 1993 6 2 source image date as yyyy mm dd*
SOURCE_DEM_DATE 1997 1 27 source dem date yyyy mm dd*
AGENCY "WESTERN MAPPING CENTER (WMC)" oversight agency*
PRODUCER "Analytical Surveys" producer/contractor*
PRODUCTION_SYSTEM "ORBIT OR_RECTIFY V.5.2" production system*
STANDARD_VERSION 1996 12 version of DOQ standard*
METADATA_DATE 1997 11 2 date created or changed, yyyy mm dd*
DATA_FILE_SIZE 47823300 data set size in bytes*
BYTE_COUNT 6300 header byte count* * * * * * * * * * * * * * * * * * * * * * * * * * * * * * * * * * * *
END_USGS_HEADER *
