BEGIN_USGS_DOQ_HEADER *
QUADRANGLE_NAME "NEW YORK BUTTE" 3.45 or 7.5-min. name*
QUADRANT NE quadrant indicator if cell size = 3.75-minutes*
WEST_LONGITUDE -117 56 15.000 signed deg min sec SDDD MM SS.SSS*
EAST_LONGITUDE -117 52 30.000 signed deg min sec SDDD MM SS.SSS*
NORTH_LATITUDE 36 45 0.000 signed deg min sec SDDD MM SS.SSS*
SOUTH_LATITUDE 36 41 15.000 signed deg min sec SDDD MM SS.SSS*
PRODUCTION_DATE 1997 1 14 yyyy mm dd*
RASTER_ORDER LEFT_RIGHT/TOP_BOTTOM video display order*
BAND_ORGANIZATION "SINGLE FILE" single file or BSQ, or BIL or BIP*
BAND_CONTENT BLACK&WHITE black&white or red green blue*
BITS_PER_PIXEL 8 radiometric resolution*
SAMPLES_AND_LINES 6360 7620 number of columns and rows*
HORIZONTAL_DATUM NAD83 primary horizontal datum*
HORIZONTAL_COORDINATE_SYSTEM UTM *
COORDINATE_ZONE 11 coordinate system zone number*
HORIZONTAL_UNITS METERS coordinate system units*
HORIZONTAL_RESOLUTION 1.00 pixel horiz. ground sample distance*
SECONDARY_HORIZONTAL_DATUM NAD27 secondary horizontal datum*
XY_ORIGIN 415860.000 4067850.000 coord. of upper left pixel pri. datum*
SECONDARY_XY_ORIGIN 415939.976 4067654.183 coord upper left pixel sec datum*
NATION US nation code*
STATE CA state fip code*
NW_QUAD_CORNER_XY 416311.569 4067549.321 XY coords. of pri. NW quad corner*
NE_QUAD_CORNER_XY 421890.926 4067496.515 XY coords. of pri. NE quad corner*
SE_QUAD_CORNER_XY 421827.616 4060563.283 XY coords. of pri. SE quad corner*
SW_QUAD_CORNER_XY 416243.735 4060616.055 XY coords. of pri. SW quad corner*
SECONDARY_NW_QUAD_XY 416309.543 4067346.808 XY coords. - sec. NW quad cor.*
SECONDARY_NE_QUAD_XY 421889.035 4067294.001 XY coords. - sec. NE quad cor.*
SECONDARY_SE_QUAD_XY 421825.726 4060360.935 XY coords. - sec. SE quad cor.*
SECONDARY_SW_QUAD_XY 416241.711 4060413.708 XY coords. - sec. SW quad cor.*
RMSE_XY 4.00 doq horiz. accuracy*
IMAGE_SOURCE "BLACK AND WHITE FILM" b&w, cir, natural color, other*
SOURCE_IMAGE_ID "NAPP 6301 239" source image id*
SOURCE_IMAGE_DATE 1993 6 9 source image date as yyyy mm dd*
SOURCE_DEM_DATE 1997 1 14 source dem date yyyy mm dd*
AGENCY "WESTERN MAPPING CENTER (WMC)" oversight agency*
PRODUCER "Analytical Surveys" producer/contractor*
PRODUCTION_SYSTEM "ORBIT OR_RECTIFY V.5.2" production system*
STANDARD_VERSION 1996 12 version of DOQ standard*
METADATA_DATE 1997 6 10 date created or changed, yyyy mm dd*
DATA_FILE_SIZE 48469560 data set size in bytes*
BYTE_COUNT 6360 header byte count* * * * * * * * * * * * * * * * * * * * * * * * * * * * * * * * * * * * *
END_USGS_HEADER *
