BEGIN_USGS_DOQ_HEADER *
QUADRANGLE_NAME "PAT KEYES CANYON" *
QUADRANT SW *
WEST_LONGITUDE -118 0 0.000 *
EAST_LONGITUDE -117 56 15.000 *
NORTH_LATITUDE 36 48 45.000 *
SOUTH_LATITUDE 36 45 0.000 *
PRODUCTION_DATE 2001 12 19 *
RASTER_ORDER LEFT_RIGHT/TOP_BOTTOM *
BAND_ORGANIZATION "SINGLE FILE" *
BAND_CONTENT BLACK&WHITE *
BITS_PER_PIXEL 8 *
SAMPLES_AND_LINES 6330 7597 *
HORIZONTAL_DATUM NAD83 *
HORIZONTAL_COORDINATE_SYSTEM UTM *
COORDINATE_ZONE 11 *
HORIZONTAL_UNITS METERS *
HORIZONTAL_RESOLUTION 1.0 *
SECONDARY_HORIZONTAL_DATUM NAD27 *
XY_ORIGIN 410349.899 4074839.144 *
SECONDARY_XY_ORIGIN 410429.982 4074643.234 *
NATION US *
STATE CA *
NW_QUAD_CORNER_XY 410804.646 4074539.144 *
NE_QUAD_CORNER_XY 416379.502 4074482.659 *
SE_QUAD_CORNER_XY 416311.569 4067549.321 *
SW_QUAD_CORNER_XY 410732.183 4067605.770 *
SECONDARY_NW_QUAD_XY 410802.486 4074336.467 *
SECONDARY_NE_QUAD_XY 416377.478 4074279.982 *
SECONDARY_SE_QUAD_XY 416309.547 4067346.810 *
SECONDARY_SW_QUAD_XY 410730.024 4067403.258 *
RMSE_XY 3.18 *
IMAGE_SOURCE "BLACK AND WHITE FILM" *
SOURCE_IMAGE_ID "NAPP 10551 28" *
SOURCE_IMAGE_DATE 1998 8 22 *
SOURCE_IMAGE_ID "NAPP 10551 29" *
SOURCE_IMAGE_DATE 1998 8 22 *
SOURCE_IMAGE_ID "NAPP 10551 27" *
SOURCE_IMAGE_DATE 1998 8 22 *
SOURCE_IMAGE_ID "NAPP 10569 200" *
SOURCE_IMAGE_DATE 1999 8 8 *
SOURCE_IMAGE_ID "NAPP 10569 199" *
SOURCE_IMAGE_DATE 1999 8 8 *
SOURCE_IMAGE_ID "NAPP 10569 198" *
SOURCE_IMAGE_DATE 1999 8 8 *
SOURCE_IMAGE_ID "NAPP 10552 204" *
SOURCE_IMAGE_DATE 1998 8 23 *
SOURCE_IMAGE_ID "NAPP 10552 205" *
SOURCE_IMAGE_DATE 1998 8 23 *
SOURCE_IMAGE_ID "NAPP 10552 206" *
SOURCE_IMAGE_DATE 1998 8 23 *
SOURCE_DEM_DATE 2000 0 0 *
AGENCY "WESTERN MAPPING CENTER (WMC)" *
PRODUCER "USDA FS GEOSPATIAL SERVICE AND TECHNOLOGY CENTER" *
PRODUCTION_SYSTEM "ORBIT OR_RECTIFY V.5.2" *
STANDARD_VERSION 1996 12 *
METADATA_DATE 2001 12 31 *
DATA_FILE_SIZE 48095340 *
BYTE_COUNT 6330 * * * * * * * * * * * * * * * * * * * * *
END_USGS_HEADER *
