BEGIN_USGS_DOQ_HEADER *
QUADRANGLE_NAME "EAST OF WAUCOBA CANYON" 3.45 or 7.5-min. name*
QUADRANT SE quadrant indicator if cell size = 3.75-minutes*
WEST_LONGITUDE -117 48 45.000 signed deg min sec SDDD MM SS.SSS*
EAST_LONGITUDE -117 45 0.000 signed deg min sec SDDD MM SS.SSS*
NORTH_LATITUDE 36 56 15.000 signed deg min sec SDDD MM SS.SSS*
SOUTH_LATITUDE 36 52 30.000 signed deg min sec SDDD MM SS.SSS*
PRODUCTION_DATE 1997 1 6 yyyy mm dd*
RASTER_ORDER LEFT_RIGHT/TOP_BOTTOM video display order*
BAND_ORGANIZATION "SINGLE FILE" single file or BSQ, or BIL or BIP*
BAND_CONTENT BLACK&WHITE black&white or red green blue*
BITS_PER_PIXEL 8 radiometric resolution*
SAMPLES_AND_LINES 6330 7590 number of columns and rows*
HORIZONTAL_DATUM NAD83 primary horizontal datum*
HORIZONTAL_COORDINATE_SYSTEM UTM *
COORDINATE_ZONE 11 coordinate system zone number*
HORIZONTAL_UNITS METERS coordinate system units*
HORIZONTAL_RESOLUTION 1.00 pixel horiz. ground sample distance*
SECONDARY_HORIZONTAL_DATUM NAD27 secondary horizontal datum*
XY_ORIGIN 427200.000 4088550.000 coord. of upper left pixel pri. datum*
SECONDARY_XY_ORIGIN 427279.701 4088353.786 coord upper left pixel sec datum*
NATION US nation code*
STATE CA state fip code*
NW_QUAD_CORNER_XY 427647.138 4088247.381 XY coords. of pri. NW quad corner*
NE_QUAD_CORNER_XY 433212.836 4088201.772 XY coords. of pri. NE quad corner*
SE_QUAD_CORNER_XY 433158.332 4081268.387 XY coords. of pri. SE quad corner*
SW_QUAD_CORNER_XY 427588.091 4081313.966 XY coords. of pri. SW quad corner*
SECONDARY_NW_QUAD_XY 427645.378 4088044.372 XY coords. - sec. NW quad cor.*
SECONDARY_NE_QUAD_XY 433211.211 4087998.762 XY coords. - sec. NE quad cor.*
SECONDARY_SE_QUAD_XY 433156.708 4081065.540 XY coords. - sec. SE quad cor.*
SECONDARY_SW_QUAD_XY 427586.333 4081111.121 XY coords. - sec. SW quad cor.*
RMSE_XY 2.60 doq horiz. accuracy*
IMAGE_SOURCE "BLACK AND WHITE FILM" b&w, cir, natural color, other*
SOURCE_IMAGE_ID "NAPP 6298 052" source image id*
SOURCE_IMAGE_DATE 1993 6 2 source image date as yyyy mm dd*
SOURCE_DEM_DATE 1997 1 6 source dem date yyyy mm dd*
AGENCY "WESTERN MAPPING CENTER (WMC)" oversight agency*
PRODUCER "Analytical Surveys" producer/contractor*
PRODUCTION_SYSTEM "ORBIT OR_RECTIFY V.5.2" production system*
STANDARD_VERSION 1996 12 version of DOQ standard*
METADATA_DATE 1997 6 10 date created or changed, yyyy mm dd*
DATA_FILE_SIZE 48051030 data set size in bytes*
BYTE_COUNT 6330 header byte count* * * * * * * * * * * * * * * * * * * * * * * * * * * * * * * * * * * * *
END_USGS_HEADER *
