BEGIN_USGS_DOQ_HEADER *
QUADRANGLE_NAME "WAUCOBA CANYON" *
QUADRANT SW *
WEST_LONGITUDE -118 0 0.000 *
EAST_LONGITUDE -117 56 15.000 *
NORTH_LATITUDE 36 56 15.000 *
SOUTH_LATITUDE 36 52 30.000 *
PRODUCTION_DATE 2001 12 19 *
RASTER_ORDER LEFT_RIGHT/TOP_BOTTOM *
BAND_ORGANIZATION "SINGLE FILE" *
BAND_CONTENT BLACK&WHITE *
BITS_PER_PIXEL 8 *
SAMPLES_AND_LINES 6321 7597 *
HORIZONTAL_DATUM NAD83 *
HORIZONTAL_COORDINATE_SYSTEM UTM *
COORDINATE_ZONE 11 *
HORIZONTAL_UNITS METERS *
HORIZONTAL_RESOLUTION 1.0 *
SECONDARY_HORIZONTAL_DATUM NAD27 *
XY_ORIGIN 410495.021 4088706.104 *
SECONDARY_XY_ORIGIN 410575.013 4088509.927 *
NATION US *
STATE CA *
NW_QUAD_CORNER_XY 410949.893 4088406.104 *
NE_QUAD_CORNER_XY 416515.668 4088349.547 *
SE_QUAD_CORNER_XY 416447.535 4081416.067 *
SW_QUAD_CORNER_XY 410877.216 4081472.589 *
SECONDARY_NW_QUAD_XY 410947.730 4088203.098 *
SECONDARY_NE_QUAD_XY 416513.641 4088146.542 *
SECONDARY_SE_QUAD_XY 416445.510 4081213.226 *
SECONDARY_SW_QUAD_XY 410875.055 4081269.747 *
RMSE_XY 3.18 *
IMAGE_SOURCE "BLACK AND WHITE FILM" *
SOURCE_IMAGE_ID "NAPP 10551 24" *
SOURCE_IMAGE_DATE 1998 8 22 *
SOURCE_IMAGE_ID "NAPP 10551 25" *
SOURCE_IMAGE_DATE 1998 8 22 *
SOURCE_IMAGE_ID "NAPP 10551 23" *
SOURCE_IMAGE_DATE 1998 8 22 *
SOURCE_IMAGE_ID "NAPP 10569 196" *
SOURCE_IMAGE_DATE 1999 8 8 *
SOURCE_IMAGE_ID "NAPP 10569 195" *
SOURCE_IMAGE_DATE 1999 8 8 *
SOURCE_IMAGE_ID "NAPP 10569 194" *
SOURCE_IMAGE_DATE 1999 8 8 *
SOURCE_IMAGE_ID "NAPP 10551 84" *
SOURCE_IMAGE_DATE 1998 8 22 *
SOURCE_IMAGE_ID "NAPP 10551 83" *
SOURCE_IMAGE_DATE 1998 8 22 *
SOURCE_IMAGE_ID "NAPP 10551 82" *
SOURCE_IMAGE_DATE 1998 8 22 *
SOURCE_DEM_DATE 2000 0 0 *
AGENCY "WESTERN MAPPING CENTER (WMC)" *
PRODUCER "USDA FS GEOSPATIAL SERVICE AND TECHNOLOGY CENTER" *
PRODUCTION_SYSTEM "ORBIT OR_RECTIFY V.5.2" *
STANDARD_VERSION 1996 12 *
METADATA_DATE 2001 12 31 *
DATA_FILE_SIZE 48026958 *
BYTE_COUNT 6321 * * * * * * * * * * * * * * * * * * * *
END_USGS_HEADER *
