BEGIN_USGS_DOQ_HEADER *
QUADRANGLE_NAME "CASE MOUNTAIN" 3.45 or 7.5-min. name*
QUADRANT SW quadrant indicator if cell size = 3.75-minutes*
WEST_LONGITUDE -118 52 30.000 signed deg min sec SDDD MM SS.SSS*
EAST_LONGITUDE -118 48 45.000 signed deg min sec SDDD MM SS.SSS*
NORTH_LATITUDE 36 26 15.000 signed deg min sec SDDD MM SS.SSS*
SOUTH_LATITUDE 36 22 30.000 signed deg min sec SDDD MM SS.SSS*
PRODUCTION_DATE 1998 3 23 yyyy mm dd*
RASTER_ORDER LEFT_RIGHT/TOP_BOTTOM video display order*
BAND_ORGANIZATION BIP single file or BSQ, or BIL or BIP*
BAND_CONTENT RED black&white or red green blue*
BAND_CONTENT GREEN black&white or red green blue*
BAND_CONTENT BLUE black&white or red green blue*
BITS_PER_PIXEL 8 radiometric resolution*
SAMPLES_AND_LINES 6424 7648 number of columns and rows*
HORIZONTAL_DATUM NAD83 primary horizontal datum*
HORIZONTAL_COORDINATE_SYSTEM UTM *
COORDINATE_ZONE 11 coordinate system zone number*
HORIZONTAL_UNITS METERS coordinate system units*
HORIZONTAL_RESOLUTION 1.00 pixel horiz. ground sample distance*
SECONDARY_HORIZONTAL_DATUM NAD27 secondary horizontal datum*
XY_ORIGIN 331420.000 4034409.000 coord. of upper left pixel pri. datum*
SECONDARY_XY_ORIGIN 331499.687 4034211.584 coord upper left pixel sec datum*
NATION US nation code*
STATE CA state fip code*
NW_QUAD_CORNER_XY 331940.117 4034108.987 XY coords. of pri. NW quad corner*
NE_QUAD_CORNER_XY 337542.677 4034001.869 XY coords. of pri. NE quad corner*
SE_QUAD_CORNER_XY 337412.454 4027068.199 XY coords. of pri. SE quad corner*
SW_QUAD_CORNER_XY 331805.398 4027175.245 XY coords. of pri. SW quad corner*
SECONDARY_NW_QUAD_XY 331936.080 4033907.343 XY coords. - sec. NW quad cor.*
SECONDARY_NE_QUAD_XY 337538.775 4033800.222 XY coords. - sec. NE quad cor.*
SECONDARY_SE_QUAD_XY 337408.555 4026866.723 XY coords. - sec. SE quad cor.*
SECONDARY_SW_QUAD_XY 331801.364 4026973.771 XY coords. - sec. SW quad cor.*
RMSE_XY 5.30 doq horiz. accuracy*
IMAGE_SOURCE "COLOR INFRA-RED FILM" b&w, cir, natural color, other*
SOURCE_IMAGE_ID "NAPP 1831 178" source image id*
SOURCE_IMAGE_DATE 1989 7 17 source image date as yyyy mm dd*
IMAGE_SOURCE "COLOR INFRA-RED FILM" b&w, cir, natural color, other*
SOURCE_IMAGE_ID "NAPP 1831 079" source image id*
SOURCE_IMAGE_DATE 1989 7 17 source image date as yyyy mm dd*
IMAGE_SOURCE "COLOR INFRA-RED FILM" b&w, cir, natural color, other*
SOURCE_IMAGE_ID "NAPP 1831 179" source image id*
SOURCE_IMAGE_DATE 1989 7 17 source image date as yyyy mm dd*
IMAGE_SOURCE "COLOR INFRA-RED FILM" b&w, cir, natural color, other*
SOURCE_IMAGE_ID "NAPP 1831 188" source image id*
SOURCE_IMAGE_DATE 1989 7 17 source image date as yyyy mm dd*
SOURCE_DEM_DATE 1998 3 23 source dem date yyyy mm dd*
AGENCY "WESTERN MAPPING CENTER (WMC)" oversight agency*
PRODUCER "SCIENCE APPLICATIONS INTERNATIONAL" *
PRODUCTION_SYSTEM "GIS/MAGIC" production system*
STANDARD_VERSION 1996 12 version of DOQ standard*
METADATA_DATE 1998 5 16 date created or changed, yyyy mm dd*
DATA_FILE_SIZE 147411528 data set size in bytes*
BYTE_COUNT 19272 header byte count* * * * * * * * * * * * * * * * * * * * * * * * * * * * * * * * * * * * * * * * * * * * * * * * * * * * * * * * * * * * * * * * * * * * * * * * * * * * * * * * * * * * * * * * * * * * * * * * * * * * * * * * * * * * * * * * * * * * * * * * * * * * * * * * * * * * * * * * * * * * * * * * * * * * * * * * * * * * * * * * * * * * * * * * * * * * * * * * * * * * * * * * * * *
END_USGS_HEADER *
