BEGIN_USGS_DOQ_HEADER *
QUADRANGLE_NAME "KAWEAH" 3.45 or 7.5-min. name*
QUADRANT SE quadrant indicator if cell size = 3.75-minutes*
WEST_LONGITUDE -118 56 15.000 signed deg min sec SDDD MM SS.SSS*
EAST_LONGITUDE -118 52 30.000 signed deg min sec SDDD MM SS.SSS*
NORTH_LATITUDE 36 26 15.000 signed deg min sec SDDD MM SS.SSS*
SOUTH_LATITUDE 36 22 30.000 signed deg min sec SDDD MM SS.SSS*
PRODUCTION_DATE 1998 2 25 yyyy mm dd*
RASTER_ORDER LEFT_RIGHT/TOP_BOTTOM video display order*
BAND_ORGANIZATION BIP single file or BSQ, or BIL or BIP*
BAND_CONTENT RED black&white or red green blue*
BAND_CONTENT GREEN black&white or red green blue*
BAND_CONTENT BLUE black&white or red green blue*
BITS_PER_PIXEL 8 radiometric resolution*
SAMPLES_AND_LINES 6429 7651 number of columns and rows*
HORIZONTAL_DATUM NAD83 primary horizontal datum*
HORIZONTAL_COORDINATE_SYSTEM UTM *
COORDINATE_ZONE 11 coordinate system zone number*
HORIZONTAL_UNITS METERS coordinate system units*
HORIZONTAL_RESOLUTION 1.00 pixel horiz. ground sample distance*
SECONDARY_HORIZONTAL_DATUM NAD27 secondary horizontal datum*
XY_ORIGIN 325813.000 4034520.000 coord. of upper left pixel pri. datum*
SECONDARY_XY_ORIGIN 325892.700 4034322.431 coord upper left pixel sec datum*
NATION US nation code*
STATE CA state fip code*
NW_QUAD_CORNER_XY 326337.497 4034219.740 XY coords. of pri. NW quad corner*
NE_QUAD_CORNER_XY 331940.117 4034108.987 XY coords. of pri. NE quad corner*
SE_QUAD_CORNER_XY 331805.398 4027175.245 XY coords. of pri. SE quad corner*
SW_QUAD_CORNER_XY 326198.282 4027285.923 XY coords. of pri. SW quad corner*
SECONDARY_NW_QUAD_XY 326333.325 4034018.099 XY coords. - sec. NW quad cor.*
SECONDARY_NE_QUAD_XY 331936.080 4033907.343 XY coords. - sec. NE quad cor.*
SECONDARY_SE_QUAD_XY 331801.364 4026973.771 XY coords. - sec. SE quad cor.*
SECONDARY_SW_QUAD_XY 326194.114 4027084.452 XY coords. - sec. SW quad cor.*
RMSE_XY 3.50 doq horiz. accuracy*
IMAGE_SOURCE "COLOR INFRA-RED FILM" b&w, cir, natural color, other*
SOURCE_IMAGE_ID "NAPP 1831 078" source image id*
SOURCE_IMAGE_DATE 1989 7 17 source image date as yyyy mm dd*
IMAGE_SOURCE "COLOR INFRA-RED FILM" b&w, cir, natural color, other*
SOURCE_IMAGE_ID "NAPP 1831 069" source image id*
SOURCE_IMAGE_DATE 1989 7 17 source image date as yyyy mm dd*
IMAGE_SOURCE "COLOR INFRA-RED FILM" b&w, cir, natural color, other*
SOURCE_IMAGE_ID "NAPP 1831 070" source image id*
SOURCE_IMAGE_DATE 1989 7 17 source image date as yyyy mm dd*
IMAGE_SOURCE "COLOR INFRA-RED FILM" b&w, cir, natural color, other*
SOURCE_IMAGE_ID "NAPP 1831 077" source image id*
SOURCE_IMAGE_DATE 1989 7 17 source image date as yyyy mm dd*
IMAGE_SOURCE "COLOR INFRA-RED FILM" b&w, cir, natural color, other*
SOURCE_IMAGE_ID "NAPP 1831 0" source image id*
SOURCE_IMAGE_DATE 1989 7 17 source image date as yyyy mm dd*
SOURCE_DEM_DATE 1998 2 25 source dem date yyyy mm dd*
AGENCY "WESTERN MAPPING CENTER (WMC)" oversight agency*
PRODUCER "SCIENCE APPLICATIONS INTERNATIONAL" *
PRODUCTION_SYSTEM "GIS/MAGIC" production system*
STANDARD_VERSION 1996 12 version of DOQ standard*
METADATA_DATE 1998 5 16 date created or changed, yyyy mm dd*
DATA_FILE_SIZE 147584124 data set size in bytes*
BYTE_COUNT 19287 header byte count* * * * * * * * * * * * * * * * * * * * * * * * * * * * * * * * * * * * * * * * * * * * * * * * * * * * * * * * * * * * * * * * * * * * * * * * * * * * * * * * * * * * * * * * * * * * * * * * * * * * * * * * * * * * * * * * * * * * * * * * * * * * * * * * * * * * * * * * * * * * * * * * * * * * * * * * * * * * * * * * * * * * * * * * * * * * * * * * * * * * * * * * *
END_USGS_HEADER *
