BEGIN_USGS_DOQ_HEADER *
QUADRANGLE_NAME "LODGEPOLE" 3.45 or 7.5-min. name*
QUADRANT NE quadrant indicator if cell size = 3.75-minutes*
WEST_LONGITUDE -118 41 15.000 signed deg min sec SDDD MM SS.SSS*
EAST_LONGITUDE -118 37 30.000 signed deg min sec SDDD MM SS.SSS*
NORTH_LATITUDE 36 37 30.000 signed deg min sec SDDD MM SS.SSS*
SOUTH_LATITUDE 36 33 45.000 signed deg min sec SDDD MM SS.SSS*
PRODUCTION_DATE 1998 2 26 yyyy mm dd*
RASTER_ORDER LEFT_RIGHT/TOP_BOTTOM video display order*
BAND_ORGANIZATION BIP single file or BSQ, or BIL or BIP*
BAND_CONTENT RED black&white or red green blue*
BAND_CONTENT GREEN black&white or red green blue*
BAND_CONTENT BLUE black&white or red green blue*
BITS_PER_PIXEL 8 radiometric resolution*
SAMPLES_AND_LINES 6397 7638 number of columns and rows*
HORIZONTAL_DATUM NAD83 primary horizontal datum*
HORIZONTAL_COORDINATE_SYSTEM UTM *
COORDINATE_ZONE 11 coordinate system zone number*
HORIZONTAL_UNITS METERS coordinate system units*
HORIZONTAL_RESOLUTION 1.00 pixel horiz. ground sample distance*
SECONDARY_HORIZONTAL_DATUM NAD27 secondary horizontal datum*
XY_ORIGIN 348606.000 4054900.000 coord. of upper left pixel pri. datum*
SECONDARY_XY_ORIGIN 348685.732 4054702.716 coord upper left pixel sec datum*
NATION US nation code*
STATE CA state fip code*
NW_QUAD_CORNER_XY 349112.416 4054599.530 XY coords. of pri. NW quad corner*
NE_QUAD_CORNER_XY 354701.289 4054503.121 XY coords. of pri. NE quad corner*
SE_QUAD_CORNER_XY 354584.027 4047569.454 XY coords. of pri. SE quad corner*
SW_QUAD_CORNER_XY 348990.640 4047665.798 XY coords. of pri. SW quad corner*
SECONDARY_NW_QUAD_XY 349108.774 4054397.372 XY coords. - sec. NW quad cor.*
SECONDARY_NE_QUAD_XY 354697.782 4054300.962 XY coords. - sec. NE quad cor.*
SECONDARY_SE_QUAD_XY 354580.523 4047367.462 XY coords. - sec. SE quad cor.*
SECONDARY_SW_QUAD_XY 348987.001 4047463.809 XY coords. - sec. SW quad cor.*
RMSE_XY 5.00 doq horiz. accuracy*
IMAGE_SOURCE "COLOR INFRA-RED FILM" b&w, cir, natural color, other*
SOURCE_IMAGE_ID "NAPP 474 184" source image id*
SOURCE_IMAGE_DATE 1987 7 2 source image date as yyyy mm dd*
IMAGE_SOURCE "COLOR INFRA-RED FILM" b&w, cir, natural color, other*
SOURCE_IMAGE_ID "NAPP 474 177" source image id*
SOURCE_IMAGE_DATE 1987 7 2 source image date as yyyy mm dd*
IMAGE_SOURCE "COLOR INFRA-RED FILM" b&w, cir, natural color, other*
SOURCE_IMAGE_ID "NAPP 474 176" source image id*
SOURCE_IMAGE_DATE 1987 7 2 source image date as yyyy mm dd*
IMAGE_SOURCE "COLOR INFRA-RED FILM" b&w, cir, natural color, other*
SOURCE_IMAGE_ID "NAPP 474 183" source image id*
SOURCE_IMAGE_DATE 1987 7 2 source image date as yyyy mm dd*
IMAGE_SOURCE "COLOR INFRA-RED FILM" b&w, cir, natural color, other*
SOURCE_IMAGE_ID "NAPP 474 18" source image id*
SOURCE_IMAGE_DATE 1987 7 2 source image date as yyyy mm dd*
SOURCE_DEM_DATE 1998 2 26 source dem date yyyy mm dd*
AGENCY "WESTERN MAPPING CENTER (WMC)" oversight agency*
PRODUCER "SCIENCE APPLICATIONS INTERNATIONAL" *
PRODUCTION_SYSTEM "GIS/MAGIC" production system*
STANDARD_VERSION 1996 12 version of DOQ standard*
METADATA_DATE 1998 5 16 date created or changed, yyyy mm dd*
DATA_FILE_SIZE 146600049 data set size in bytes*
BYTE_COUNT 19191 header byte count* * * * * * * * * * * * * * * * * * * * * * * * * * * * * * * * * * * * * * * * * * * * * * * * * * * * * * * * * * * * * * * * * * * * * * * * * * * * * * * * * * * * * * * * * * * * * * * * * * * * * * * * * * * * * * * * * * * * * * * * * * * * * * * * * * * * * * * * * * * * * * * * * * * * * * * * * * * * * * * * * * * * * * * * * * * * * * * * * * * * * * *
END_USGS_HEADER *
