BEGIN_USGS_DOQ_HEADER *
QUADRANGLE_NAME "LODGEPOLE" 3.45 or 7.5-min. name*
QUADRANT SW quadrant indicator if cell size = 3.75-minutes*
WEST_LONGITUDE -118 45 0.000 signed deg min sec SDDD MM SS.SSS*
EAST_LONGITUDE -118 41 15.000 signed deg min sec SDDD MM SS.SSS*
NORTH_LATITUDE 36 33 45.000 signed deg min sec SDDD MM SS.SSS*
SOUTH_LATITUDE 36 30 0.000 signed deg min sec SDDD MM SS.SSS*
PRODUCTION_DATE 1998 2 26 yyyy mm dd*
RASTER_ORDER LEFT_RIGHT/TOP_BOTTOM video display order*
BAND_ORGANIZATION BIP single file or BSQ, or BIL or BIP*
BAND_CONTENT RED black&white or red green blue*
BAND_CONTENT GREEN black&white or red green blue*
BAND_CONTENT BLUE black&white or red green blue*
BITS_PER_PIXEL 8 radiometric resolution*
SAMPLES_AND_LINES 6406 7641 number of columns and rows*
HORIZONTAL_DATUM NAD83 primary horizontal datum*
HORIZONTAL_COORDINATE_SYSTEM UTM *
COORDINATE_ZONE 11 coordinate system zone number*
HORIZONTAL_UNITS METERS coordinate system units*
HORIZONTAL_RESOLUTION 1.00 pixel horiz. ground sample distance*
SECONDARY_HORIZONTAL_DATUM NAD27 secondary horizontal datum*
XY_ORIGIN 342886.000 4048066.000 coord. of upper left pixel pri. datum*
SECONDARY_XY_ORIGIN 342965.677 4047868.620 coord upper left pixel sec datum*
NATION US nation code*
STATE CA state fip code*
NW_QUAD_CORNER_XY 343397.200 4047765.782 XY coords. of pri. NW quad corner*
NE_QUAD_CORNER_XY 348990.640 4047665.798 XY coords. of pri. NE quad corner*
SE_QUAD_CORNER_XY 348869.044 4040732.134 XY coords. of pri. SE quad corner*
SW_QUAD_CORNER_XY 343271.097 4040832.050 XY coords. of pri. SW quad corner*
SECONDARY_NW_QUAD_XY 343393.427 4047563.795 XY coords. - sec. NW quad cor.*
SECONDARY_NE_QUAD_XY 348987.001 4047463.809 XY coords. - sec. NE quad cor.*
SECONDARY_SE_QUAD_XY 348865.408 4040530.313 XY coords. - sec. SE quad cor.*
SECONDARY_SW_QUAD_XY 343267.327 4040630.232 XY coords. - sec. SW quad cor.*
RMSE_XY 5.40 doq horiz. accuracy*
IMAGE_SOURCE "COLOR INFRA-RED FILM" b&w, cir, natural color, other*
SOURCE_IMAGE_ID "NAPP 474 179" source image id*
SOURCE_IMAGE_DATE 1987 7 2 source image date as yyyy mm dd*
IMAGE_SOURCE "COLOR INFRA-RED FILM" b&w, cir, natural color, other*
SOURCE_IMAGE_ID "NAPP 474 148" source image id*
SOURCE_IMAGE_DATE 1987 7 2 source image date as yyyy mm dd*
IMAGE_SOURCE "COLOR INFRA-RED FILM" b&w, cir, natural color, other*
SOURCE_IMAGE_ID "NAPP 474 180" source image id*
SOURCE_IMAGE_DATE 1987 7 2 source image date as yyyy mm dd*
IMAGE_SOURCE "COLOR INFRA-RED FILM" b&w, cir, natural color, other*
SOURCE_IMAGE_ID "NAPP 474 181" source image id*
SOURCE_IMAGE_DATE 1987 7 2 source image date as yyyy mm dd*
IMAGE_SOURCE "COLOR INFRA-RED FILM" b&w, cir, natural color, other*
SOURCE_IMAGE_ID "NAPP " source image id*
SOURCE_IMAGE_DATE 1987 7 2 source image date as yyyy mm dd*
SOURCE_DEM_DATE 1998 2 26 source dem date yyyy mm dd*
AGENCY "WESTERN MAPPING CENTER (WMC)" oversight agency*
PRODUCER "SCIENCE APPLICATIONS INTERNATIONAL" *
PRODUCTION_SYSTEM "GIS/MAGIC" production system*
STANDARD_VERSION 1996 12 version of DOQ standard*
METADATA_DATE 1998 5 16 date created or changed, yyyy mm dd*
DATA_FILE_SIZE 146863956 data set size in bytes*
BYTE_COUNT 19218 header byte count* * * * * * * * * * * * * * * * * * * * * * * * * * * * * * * * * * * * * * * * * * * * * * * * * * * * * * * * * * * * * * * * * * * * * * * * * * * * * * * * * * * * * * * * * * * * * * * * * * * * * * * * * * * * * * * * * * * * * * * * * * * * * * * * * * * * * * * * * * * * * * * * * * * * * * * * * * * * * * * * * * * * * * * * * * * * * * * * * * * * * * * *
END_USGS_HEADER *
