BEGIN_USGS_DOQ_HEADER *
QUADRANGLE_NAME "MOUNT WILLIAMSON" 3.45 or 7.5-min. name*
QUADRANT NW quadrant indicator if cell size = 3.75-minutes*
WEST_LONGITUDE -118 22 30.000 signed deg min sec SDDD MM SS.SSS*
EAST_LONGITUDE -118 18 45.000 signed deg min sec SDDD MM SS.SSS*
NORTH_LATITUDE 36 45 0.000 signed deg min sec SDDD MM SS.SSS*
SOUTH_LATITUDE 36 41 15.000 signed deg min sec SDDD MM SS.SSS*
PRODUCTION_DATE 1998 3 9 yyyy mm dd*
RASTER_ORDER LEFT_RIGHT/TOP_BOTTOM video display order*
BAND_ORGANIZATION BIP single file or BSQ, or BIL or BIP*
BAND_CONTENT RED black&white or red green blue*
BAND_CONTENT GREEN black&white or red green blue*
BAND_CONTENT BLUE black&white or red green blue*
BITS_PER_PIXEL 8 radiometric resolution*
SAMPLES_AND_LINES 6365 7621 number of columns and rows*
HORIZONTAL_DATUM NAD83 primary horizontal datum*
HORIZONTAL_COORDINATE_SYSTEM UTM *
COORDINATE_ZONE 11 coordinate system zone number*
HORIZONTAL_UNITS METERS coordinate system units*
HORIZONTAL_RESOLUTION 1.00 pixel horiz. ground sample distance*
SECONDARY_HORIZONTAL_DATUM NAD27 secondary horizontal datum*
XY_ORIGIN 376771.000 4068321.000 coord. of upper left pixel pri. datum*
SECONDARY_XY_ORIGIN 376851.174 4068124.542 coord upper left pixel sec datum*
NATION US nation code*
STATE CA state fip code*
NW_QUAD_CORNER_XY 377255.160 4068020.972 XY coords. of pri. NW quad corner*
NE_QUAD_CORNER_XY 382834.757 4067942.662 XY coords. of pri. NE quad corner*
SE_QUAD_CORNER_XY 382739.778 4061009.139 XY coords. of pri. SE quad corner*
SW_QUAD_CORNER_XY 377155.656 4061087.398 XY coords. of pri. SW quad corner*
SECONDARY_NW_QUAD_XY 377252.188 4067818.470 XY coords. - sec. NW quad cor.*
SECONDARY_NE_QUAD_XY 382831.921 4067740.159 XY coords. - sec. NE quad cor.*
SECONDARY_SE_QUAD_XY 382736.944 4060806.802 XY coords. - sec. SE quad cor.*
SECONDARY_SW_QUAD_XY 377152.686 4060885.063 XY coords. - sec. SW quad cor.*
RMSE_XY 3.30 doq horiz. accuracy*
IMAGE_SOURCE "COLOR INFRA-RED FILM" b&w, cir, natural color, other*
SOURCE_IMAGE_ID "NAPP 479 175" source image id*
SOURCE_IMAGE_DATE 1987 7 4 source image date as yyyy mm dd*
SOURCE_DEM_DATE 1998 3 9 source dem date yyyy mm dd*
AGENCY "WESTERN MAPPING CENTER (WMC)" oversight agency*
PRODUCER "SCIENCE APPLICATIONS INTERNATIONAL" *
PRODUCTION_SYSTEM "GIS/MAGIC" production system*
STANDARD_VERSION 1996 12 version of DOQ standard*
METADATA_DATE 1998 5 29 date created or changed, yyyy mm dd*
DATA_FILE_SIZE 145542090 data set size in bytes*
BYTE_COUNT 19095 header byte count* * * * * * * * * * * * * * * * * * * * * * * * * * * * * * * * * * * * * * * * * * * * * * * * * * * * * * * * * * * * * * * * * * * * * * * * * * * * * * * * * * * * * * * * * * * * * * * * * * * * * * * * * * * * * * * * * * * * * * * * * * * * * * * * * * * * * * * * * * * * * * * * * * * * * * * * * * * * * * * * * * * * * * * * * * * * * * * * * * * * * * * * * * * * * * * * * *
END_USGS_HEADER *
