BEGIN_USGS_DOQ_HEADER *
QUADRANGLE_NAME "MOUNT BREWER" 3.45 or 7.5-min. name*
QUADRANT NE quadrant indicator if cell size = 3.75-minutes*
WEST_LONGITUDE -118 26 15.000 signed deg min sec SDDD MM SS.SSS*
EAST_LONGITUDE -118 22 30.000 signed deg min sec SDDD MM SS.SSS*
NORTH_LATITUDE 36 45 0.000 signed deg min sec SDDD MM SS.SSS*
SOUTH_LATITUDE 36 41 15.000 signed deg min sec SDDD MM SS.SSS*
PRODUCTION_DATE 1998 2 26 yyyy mm dd*
RASTER_ORDER LEFT_RIGHT/TOP_BOTTOM video display order*
BAND_ORGANIZATION BIP single file or BSQ, or BIL or BIP*
BAND_CONTENT RED black&white or red green blue*
BAND_CONTENT GREEN black&white or red green blue*
BAND_CONTENT BLUE black&white or red green blue*
BITS_PER_PIXEL 8 radiometric resolution*
SAMPLES_AND_LINES 6370 7624 number of columns and rows*
HORIZONTAL_DATUM NAD83 primary horizontal datum*
HORIZONTAL_COORDINATE_SYSTEM UTM *
COORDINATE_ZONE 11 coordinate system zone number*
HORIZONTAL_UNITS METERS coordinate system units*
HORIZONTAL_RESOLUTION 1.00 pixel horiz. ground sample distance*
SECONDARY_HORIZONTAL_DATUM NAD27 secondary horizontal datum*
XY_ORIGIN 371187.000 4068403.000 coord. of upper left pixel pri. datum*
SECONDARY_XY_ORIGIN 371267.064 4068206.356 coord upper left pixel sec datum*
NATION US nation code*
STATE CA state fip code*
NW_QUAD_CORNER_XY 371675.521 4068102.926 XY coords. of pri. NW quad corner*
NE_QUAD_CORNER_XY 377255.160 4068020.972 XY coords. of pri. NE quad corner*
SE_QUAD_CORNER_XY 377155.656 4061087.398 XY coords. of pri. SE quad corner*
SW_QUAD_CORNER_XY 371571.491 4061169.299 XY coords. of pri. SW quad corner*
SECONDARY_NW_QUAD_XY 371672.414 4067900.427 XY coords. - sec. NW quad cor.*
SECONDARY_NE_QUAD_XY 377252.188 4067818.470 XY coords. - sec. NE quad cor.*
SECONDARY_SE_QUAD_XY 377152.686 4060885.063 XY coords. - sec. SE quad cor.*
SECONDARY_SW_QUAD_XY 371568.387 4060966.966 XY coords. - sec. SW quad cor.*
RMSE_XY 1.70 doq horiz. accuracy*
IMAGE_SOURCE "COLOR INFRA-RED FILM" b&w, cir, natural color, other*
SOURCE_IMAGE_ID "NAPP 478 033" source image id*
SOURCE_IMAGE_DATE 1987 7 3 source image date as yyyy mm dd*
IMAGE_SOURCE "COLOR INFRA-RED FILM" b&w, cir, natural color, other*
SOURCE_IMAGE_ID "NAPP 478 069" source image id*
SOURCE_IMAGE_DATE 1987 7 3 source image date as yyyy mm dd*
IMAGE_SOURCE "COLOR INFRA-RED FILM" b&w, cir, natural color, other*
SOURCE_IMAGE_ID "NAPP 478 068" source image id*
SOURCE_IMAGE_DATE 1987 7 3 source image date as yyyy mm dd*
IMAGE_SOURCE "COLOR INFRA-RED FILM" b&w, cir, natural color, other*
SOURCE_IMAGE_ID "NAPP 478 067" source image id*
SOURCE_IMAGE_DATE 1987 7 3 source image date as yyyy mm dd*
IMAGE_SOURCE "COLOR INFRA-RED FILM" b&w, cir, natural color, other*
SOURCE_IMAGE_ID "NAPP 478 03" source image id*
SOURCE_IMAGE_DATE 1987 7 3 source image date as yyyy mm dd*
SOURCE_DEM_DATE 1998 2 26 source dem date yyyy mm dd*
AGENCY "WESTERN MAPPING CENTER (WMC)" oversight agency*
PRODUCER "SCIENCE APPLICATIONS INTERNATIONAL" *
PRODUCTION_SYSTEM "GIS/MAGIC" production system*
STANDARD_VERSION 1996 12 version of DOQ standard*
METADATA_DATE 1998 5 16 date created or changed, yyyy mm dd*
DATA_FILE_SIZE 145713750 data set size in bytes*
BYTE_COUNT 19110 header byte count* * * * * * * * * * * * * * * * * * * * * * * * * * * * * * * * * * * * * * * * * * * * * * * * * * * * * * * * * * * * * * * * * * * * * * * * * * * * * * * * * * * * * * * * * * * * * * * * * * * * * * * * * * * * * * * * * * * * * * * * * * * * * * * * * * * * * * * * * * * * * * * * * * * * * * * * * * * * * * * * * * * * * * * * * * * * * * * * * * * * * *
END_USGS_HEADER *
